BEGIN:VCALENDAR
VERSION:2.0
PRODID:-//Area Sismica - ECPv6.15.20//NONSGML v1.0//EN
CALSCALE:GREGORIAN
METHOD:PUBLISH
X-WR-CALNAME:Area Sismica
X-ORIGINAL-URL:https://www.areasismica.it
X-WR-CALDESC:Eventi per Area Sismica
REFRESH-INTERVAL;VALUE=DURATION:PT1H
X-Robots-Tag:noindex
X-PUBLISHED-TTL:PT1H
BEGIN:VTIMEZONE
TZID:Europe/Rome
BEGIN:DAYLIGHT
TZOFFSETFROM:+0100
TZOFFSETTO:+0200
TZNAME:CEST
DTSTART:20250330T010000
END:DAYLIGHT
BEGIN:STANDARD
TZOFFSETFROM:+0200
TZOFFSETTO:+0100
TZNAME:CET
DTSTART:20251026T010000
END:STANDARD
BEGIN:DAYLIGHT
TZOFFSETFROM:+0100
TZOFFSETTO:+0200
TZNAME:CEST
DTSTART:20260329T010000
END:DAYLIGHT
BEGIN:STANDARD
TZOFFSETFROM:+0200
TZOFFSETTO:+0100
TZNAME:CET
DTSTART:20261025T010000
END:STANDARD
BEGIN:DAYLIGHT
TZOFFSETFROM:+0100
TZOFFSETTO:+0200
TZNAME:CEST
DTSTART:20270328T010000
END:DAYLIGHT
BEGIN:STANDARD
TZOFFSETFROM:+0200
TZOFFSETTO:+0100
TZNAME:CET
DTSTART:20271031T010000
END:STANDARD
END:VTIMEZONE
BEGIN:VEVENT
DTSTART;TZID=Europe/Rome:20260501T180000
DTEND;TZID=Europe/Rome:20260501T190000
DTSTAMP:20260425T144223
CREATED:20251204T090204Z
LAST-MODIFIED:20260101T152612Z
UID:337604-1777658400-1777662000@www.areasismica.it
SUMMARY:Schulkowsky\, Baron\, Yoshihide - Lavish Joy
DESCRIPTION:Rassegna Musiche Extra-Ordinarie \nc/o Lupo \nLavish Joy \nRobyn Schulkowsky – percussioni\nJoey Baron – batteria\nŌtomo Yoshihide – chitarra \nSenza i vincoli dei paradigmi tonali e ritmici standard\, il duo di maestri musicisti Robyn Schulkowsky e Joey Baron continua a esplorare il preciso\, il rumoroso e il bello. E per questa occasione\, uniscono le forze con il chitarrista avant-garde giapponese Ōtomo Yoshihide per presentare il loro nuovo progetto comune: Lavish Joy. \nIngresso 25 euro – prevendite su oooh.events \nInfo 345 6638289
URL:https://www.areasismica.it/event/schulkowsky-baron-yoshihide-lavish-joy/
LOCATION:Lupo\, Viale Romagna 323/H\, Lido di Savio\, Italy
ATTACH;FMTTYPE=image/png:https://www.areasismica.it/wp-content/uploads/2025/12/Screenshot-2025-12-04-alle-09.58.45.png
END:VEVENT
BEGIN:VEVENT
DTSTART;TZID=Europe/Rome:20260503T180000
DTEND;TZID=Europe/Rome:20260503T220000
DTSTAMP:20260425T144223
CREATED:20251102T113222Z
LAST-MODIFIED:20260206T135755Z
UID:337561-1777831200-1777845600@www.areasismica.it
SUMMARY:Jim O’Rourke\, Christian Fennesz & Eiko Ishibashi
DESCRIPTION:c/o Lupo\nRassegna Musica inaudita \nJim O’Rourke & Christian Fennesz\nJim O’Rourke – chitarra\, elettroniche\nChristian Fennesz – chitarra\, elettroniche\nEiko Ishibashi – elettroniche\, voce\, flauto \nArea Sismica presenta al Lupo il concerto di due dei più stimati esponenti della musica elettronica sperimentale. Jim O’Rourke e Christian Fennesz hanno realizzato individualmente numerose opere leggendarie che fondono l’avanguardia tradizionale con la sensibilità contemporanea. Nel loro primo disco del 2016\, It’s Hard For Me To Say I’m Sorry\, questi giganti della musica elettronica sperimentale si sono uniti per un’esperienza sonora di immensa potenza. \nAttraverso gli anni la firma di O’Rourke e Fennesz ha continuato a coabitare in questa\, con le armonie gorgoglianti di O’Rourke che nuotano tra le frequenze scintillanti e le melodie strimpellate prodotte da Fennesz. I loro lunghi brani si collocano come una calda avventura elettronica. Radicali e confortanti allo stesso tempo\, i loro lavori passano da sonorità delicate a esplosioni completamente distorte\, il tutto all’interno di un modello di tensione tra materia musicale e non musicale. \nAttiva dalla seconda metà dei 2000\, Eiko Ishibashi è una polistrumentista giapponese la cui produzione spazia dalla forma-canzone all’improvvisazione\, a colonne sonore per teatro e cinema\, tra cui quella del film premio Oscar Drive My Car\, per cui è stata acclamata come “Scoperta dell’anno” ai World Soundtrack Awards. \nGuidato dalla natura onnivora delle rispettive esperienze\, nella dimensione live il trio attinge dalla spontaneità dell’improvvisazione e dall’universo sonoro della composizione elettroacustica\, manipolando in tempo reale chitarre\, elettronica\, field recordings\, flauto e voce in ammalianti ibridi. \nIngresso 30 euro – prevendite su oooh.events \nInfo 345 6638289
URL:https://www.areasismica.it/event/jim-orourke-christian-fennesz/
ATTACH;FMTTYPE=image/jpeg:https://www.areasismica.it/wp-content/uploads/2025/11/orourke-fenn.jpg
END:VEVENT
END:VCALENDAR