BEGIN:VCALENDAR
VERSION:2.0
PRODID:-//Area Sismica - ECPv6.15.20//NONSGML v1.0//EN
CALSCALE:GREGORIAN
METHOD:PUBLISH
X-WR-CALNAME:Area Sismica
X-ORIGINAL-URL:https://www.areasismica.it
X-WR-CALDESC:Eventi per Area Sismica
REFRESH-INTERVAL;VALUE=DURATION:PT1H
X-Robots-Tag:noindex
X-PUBLISHED-TTL:PT1H
BEGIN:VTIMEZONE
TZID:Europe/Rome
BEGIN:DAYLIGHT
TZOFFSETFROM:+0100
TZOFFSETTO:+0200
TZNAME:CEST
DTSTART:20240331T010000
END:DAYLIGHT
BEGIN:STANDARD
TZOFFSETFROM:+0200
TZOFFSETTO:+0100
TZNAME:CET
DTSTART:20241027T010000
END:STANDARD
BEGIN:DAYLIGHT
TZOFFSETFROM:+0100
TZOFFSETTO:+0200
TZNAME:CEST
DTSTART:20250330T010000
END:DAYLIGHT
BEGIN:STANDARD
TZOFFSETFROM:+0200
TZOFFSETTO:+0100
TZNAME:CET
DTSTART:20251026T010000
END:STANDARD
BEGIN:DAYLIGHT
TZOFFSETFROM:+0100
TZOFFSETTO:+0200
TZNAME:CEST
DTSTART:20260329T010000
END:DAYLIGHT
BEGIN:STANDARD
TZOFFSETFROM:+0200
TZOFFSETTO:+0100
TZNAME:CET
DTSTART:20261025T010000
END:STANDARD
END:VTIMEZONE
BEGIN:VEVENT
DTSTART;VALUE=DATE:20250724
DTEND;VALUE=DATE:20250725
DTSTAMP:20260421T114355
CREATED:20250701T163932Z
LAST-MODIFIED:20251113T080819Z
UID:337399-1753315200-1753401599@www.areasismica.it
SUMMARY:WITCHESS (Womxn Implement The Creation of Harmonious Ecosystems of Selfless Species)
DESCRIPTION:c/o Lupo \nArea Sismica presenta: \nWITCHESS (Womxn Implement The Creation of Harmonious Ecosystems of Selfless Species) \nAndrea S. Giordano: voce\, flauto\, elettronica\nSilvia Cignoli: chitarra elettrica\, elettronica\nFrancesca Remigi: batteria\, composizione \nWITCHESS è un progetto interdisciplinare che unisce letteratura\, danza e musica\, nato dalla collaborazione con la chitarrista Silvia Cignoli\, la cantante Andrea Silvia Giordano e la ballerina Clotilde Cappelletti. Partendo da alcune opere di scrittrici femministe contemporanee (Angela Davis\, Silvia Federici\, Chimamanda Ngozi Adichie\,…)\, il quartetto costruisce una performance con l’obiettivo di immaginare una realtà libera da patriarcato e modelli di genere predefiniti\, partendo dalla rielaborazione di alcune tematiche quali la caccia alle streghe\, la segregazione razziale\, il capitalismo concepito come ostacolo alla sopravvivenza delle minoranze etniche e di genere\, l’integrazione delle comunità lgbt+\,… Grazie alla realizzazione di residenze artistiche presso il JMuseo di Jesolo (nusica.org) e presso OperaEstate a Bassano del Grappa (WeStart Cpm)\, la formazione ha avuto modo di sinergizzare le diverse forme artistiche (letteratura\, movimento e sonorità elettroacustiche ed elettroniche) in un output armonico che porti l’ascoltatore in uno spazio creativo libero e privo di confini estetici. Il primo disco di WITCHESS registrato a dicembre 2024 presso l’Elfo Recording Studio è in uscita ad autunno 2025. \nBatterista\, compositrice\, improvvisatrice visionaria\, Francesca Remigi\, milanese\, è una musicista eclettica con un talento naturale per l’improvvisazione e la composizione innovativa. Premiata come “Nuova Generazione Jazz 2021”\, “Top Jazz 2022” e vincitrice del Pathways to Jazz nel 2024\, si distingue sulla scena internazionale del jazz d’avanguardia. \nIl suo background include collaborazioni con protagonisti mondiali come Steve Lehman\, Danilo Pérez\, Dee Dee Bridgewater\, Kris Davis\, Immanuel Wilkins e molti altri\, con performance in festival prestigiosi come L’Off Jazz Montreal\, Melbourne International Jazz Festival\, London Jazz Festival\, Umbria Jazz e Panama Jazz Festival. \nLeader di formazioni internazionali\, Francesca ha portato all’esordio il suo progetto Archipélagos\, vincitore del Barga Jazz Contest 2021 e secondo classificato al Getxo Jazz Competition 2022. Il suo primo album\, “Il Labirinto dei Topi” (2021)\, è stato definito fra “i debutti più emozionanti degli ultimi tempi” da Steve Lehman\, mentre il secondo\, “The Human Web” (2022)\, è stato elogiato da Linda May Han Oh per la sua energia vibrante. \nOltre ai due album da leader\, ha inciso in progetti condivisi come “Confini Labili”\, “Water Shapes”\, “Empowered Kind” e “Palladio a Palla!”\, e ha suonato in album di Livio Bartolo\, Angela Varo Moreno\, Naomi Nakanishi e Camilla Battaglia. \nLa sua carriera internazionale comprende il tour con Danilo Pérez Quartet (2022)\, la collaborazione con Ellen Rowe Quartet\, Dee Dee Bridgewater WE EXIST! 4tet e Alexander Hawkins Dialect Quintet\, e partecipazioni a festival del calibro del North Sea Jazz 2024 insieme a Angelika Niescier e Tomeka Reid. \nCresciuta in una famiglia di musicisti\, Francesca ha iniziato a 5 anni con chitarra\, pianoforte e batteria\, per poi specializzarsi in jazz al Conservatorio G. Verdi di Milano (laurea 2017)\, al Koninklijk Conservatorium di Bruxelles e al Berklee Global Jazz Institute\, dove ha studiato con luminari del calibro di Danilo Pérez\, Linda May Oh\, Terri Lyne Carrington e Joe Lovano. \nOggi è membro associato dell’Università del Jazz di Siena e docente al Conservatorio Vittadini di Pavia. Inoltre\, co-fondatrice dell’etichetta Habitable Records e manager di social media\, ha lavorato come assistente di produzione alla Jazz Gallery di New York e come assistente alla gestione presso il Berklee Global Jazz Institute. \nIngresso libero\nprenotazione pranzo / cena 345 6638289\n>>> in caso di maltempo il concerto si svolgerà nello spazio indoor della nuova sede
URL:https://www.areasismica.it/event/witchess-womxn-implement-the-creation-of-harmonious-ecosystems-of-selfless-species/
ATTACH;FMTTYPE=image/jpeg:https://www.areasismica.it/wp-content/uploads/2025/07/Witches.jpg
END:VEVENT
END:VCALENDAR