BEGIN:VCALENDAR
VERSION:2.0
PRODID:-//Area Sismica - ECPv6.15.20//NONSGML v1.0//EN
CALSCALE:GREGORIAN
METHOD:PUBLISH
X-WR-CALNAME:Area Sismica
X-ORIGINAL-URL:https://www.areasismica.it
X-WR-CALDESC:Eventi per Area Sismica
REFRESH-INTERVAL;VALUE=DURATION:PT1H
X-Robots-Tag:noindex
X-PUBLISHED-TTL:PT1H
BEGIN:VTIMEZONE
TZID:Europe/Rome
BEGIN:DAYLIGHT
TZOFFSETFROM:+0100
TZOFFSETTO:+0200
TZNAME:CEST
DTSTART:20140330T010000
END:DAYLIGHT
BEGIN:STANDARD
TZOFFSETFROM:+0200
TZOFFSETTO:+0100
TZNAME:CET
DTSTART:20141026T010000
END:STANDARD
BEGIN:DAYLIGHT
TZOFFSETFROM:+0100
TZOFFSETTO:+0200
TZNAME:CEST
DTSTART:20150329T010000
END:DAYLIGHT
BEGIN:STANDARD
TZOFFSETFROM:+0200
TZOFFSETTO:+0100
TZNAME:CET
DTSTART:20151025T010000
END:STANDARD
BEGIN:DAYLIGHT
TZOFFSETFROM:+0100
TZOFFSETTO:+0200
TZNAME:CEST
DTSTART:20160327T010000
END:DAYLIGHT
BEGIN:STANDARD
TZOFFSETFROM:+0200
TZOFFSETTO:+0100
TZNAME:CET
DTSTART:20161030T010000
END:STANDARD
END:VTIMEZONE
BEGIN:VEVENT
DTSTART;TZID=Europe/Rome:20150329T180000
DTEND;TZID=Europe/Rome:20150329T200000
DTSTAMP:20260420T185105
CREATED:20141221T102542Z
LAST-MODIFIED:20150415T203325Z
UID:2070-1427652000-1427659200@www.areasismica.it
SUMMARY:THOLLEM ELECTRIC (USA)
DESCRIPTION:rassegna musica extra-ordinaria \nThollem McDonas: pianoforte elettrico \nThollem McDonas è un esempio puro di figura trasversale alle classificazioni di genere. Nato nella Bay Area\, apolide\, ha già inciso 41 album per 17 diverse etichette discografiche. \nPerennemente in tour sia come solista\, sia in collaborazione con una serie infinita di musicisti dalle diverse estrazioni\, fin da subito ha sviluppato una incontenibile volontà di variare il suo approccio\, spaziando quasi compulsivamente da un ambito musicale all’altro\, anche se radicalmente diversi\, e sempre a livelli altissimi. \nAd esempio\, pescando tra la sua sterminata attività\, possiamo trovare un progetto free jazz con William Parker e Nels Cline\, sfociato nell’eccelsa incisione “Gowanus Session”\, un altro contemporaneo classico con Stefano Scodanibbio\, con cui ha dato luce a “On Debussy Piano And…”\, quello punk con gli Tsigoti\, per poi passare alla impro radicale con Pauline Oliveros… \nNato da un pianoforte acustico\, ha recentemente iniziato a utilizzare tastiere elettriche\, ottenendo immediatamente recensioni entusiastiche. \nCon un pizzico di orgoglio Area Sismica può dirsi partecipe da lunga data del suo straordinario percorso\, con un’amicizia e una collaborazione  che hanno portato anche all’incisione di 2 cd\, contenenti le registrazioni dei live che Thollem McDonas ha tenuto da noi nel 2005 e nel 2009. \n  \ningresso € 10 | Area Sismica è un circolo Arci \nCondividi
URL:https://www.areasismica.it/event/thollem-mcdonas-usa-2/
ATTACH;FMTTYPE=image/jpeg:https://www.areasismica.it/wp-content/uploads/2014/12/Thollem.jpg
END:VEVENT
END:VCALENDAR