BEGIN:VCALENDAR
VERSION:2.0
PRODID:-//Area Sismica - ECPv6.15.20//NONSGML v1.0//EN
CALSCALE:GREGORIAN
METHOD:PUBLISH
X-WR-CALNAME:Area Sismica
X-ORIGINAL-URL:https://www.areasismica.it
X-WR-CALDESC:Eventi per Area Sismica
REFRESH-INTERVAL;VALUE=DURATION:PT1H
X-Robots-Tag:noindex
X-PUBLISHED-TTL:PT1H
BEGIN:VTIMEZONE
TZID:Europe/Rome
BEGIN:DAYLIGHT
TZOFFSETFROM:+0100
TZOFFSETTO:+0200
TZNAME:CEST
DTSTART:20140330T010000
END:DAYLIGHT
BEGIN:STANDARD
TZOFFSETFROM:+0200
TZOFFSETTO:+0100
TZNAME:CET
DTSTART:20141026T010000
END:STANDARD
BEGIN:DAYLIGHT
TZOFFSETFROM:+0100
TZOFFSETTO:+0200
TZNAME:CEST
DTSTART:20150329T010000
END:DAYLIGHT
BEGIN:STANDARD
TZOFFSETFROM:+0200
TZOFFSETTO:+0100
TZNAME:CET
DTSTART:20151025T010000
END:STANDARD
BEGIN:DAYLIGHT
TZOFFSETFROM:+0100
TZOFFSETTO:+0200
TZNAME:CEST
DTSTART:20160327T010000
END:DAYLIGHT
BEGIN:STANDARD
TZOFFSETFROM:+0200
TZOFFSETTO:+0100
TZNAME:CET
DTSTART:20161030T010000
END:STANDARD
END:VTIMEZONE
BEGIN:VEVENT
DTSTART;TZID=Europe/Rome:20150328T160000
DTEND;TZID=Europe/Rome:20150328T210000
DTSTAMP:20260420T171902
CREATED:20150311T180056Z
LAST-MODIFIED:20150415T203302Z
UID:2101-1427558400-1427576400@www.areasismica.it
SUMMARY:EnterSonicAction | work-shop atipico e aperto di THOLLEM MCDONAS
DESCRIPTION:EnterSonicAction \nLaboratorio\, incontro\, installazione sull’ascolto partecipato aperto a tutti\, musicisti e non. \nEnterSonicAction è un’esperienza per chiunque sia interessato a elevare e approfondire il senso dell’udito e soprattutto l’atto cosciente dell’ascoltare. \nE’ rivolto ai musicisti e ai non musicisti allo stesso modo\, è una divertente e comune esplorazione del suono e del  nostro rapporto con il suono. \nIl workshop esplora l’aspetto fisiologico\, culturale\, emozionale ed evolutivo dell’udito e dell’ascolto\, così come la fisica del suono: acustica\, timbro\, tessitura\, ecc. \nIn primo luogo Thollem McDonas conduce il gruppo attraverso una discussione ed esercizi che servono ad approfondire l’esperienza del suono. \nIn seguito\, ogni persona si muove di postazione in postazione\, attraverso un percorso sonoro preparato appositamente\, entrando in suoni dalla creazione partecipata. \nLe postazioni includono oggetti che naturalmente esistono già nell’ambiente\, che a sua volta influenza il suono degli oggetti stessi. \nQuesti possono essere interruttori della luce\, il movimento dell’acqua\, le superfici delle pareti\, delle porte\, del pavimento\, le finestre\, le chiavi\, i suoni dei nostri corpi\, che parlano lingue diverse. \nOgni persona inizia con un univoco punto di partenza. Le stazioni sonore  suonano simultaneamente\, cumulativamente\, creando un ambiente sonoro unico per l’indagine dell’atto di ascolto. \nAlcune stazioni saranno sono designate esclusivamente per vivere questo percorso. \nE’ un’esperienza che va al di là dello spazio utilizzato\, che siano case\, scuole\, carceri\, conservatori\, gallerie d’arte\,musei\, spazi chiusi o all’aperto ed è progettata  per essere fruita in maniera paritaria. \nL’attenzione è posta sulla creazione di una sperimentazione sonora condivisa\, piuttosto che sulla creatività individuale o le capacità musicali. \nEnterSonicAction è unico ogni volta\, per le iterazioni date dall’ambiente\, dagli oggetti e dagli interessi di coloro che partecipano. \n  \nPosti limitati – solo su prenotazione: info@areasismica.it \ncosto €20 | Area Sismica è un circolo Arci \nCondividi
URL:https://www.areasismica.it/event/thollem-mcdonas-entersonicaction/
ATTACH;FMTTYPE=image/jpeg:https://www.areasismica.it/wp-content/uploads/2015/03/thollem2.jpg
END:VEVENT
END:VCALENDAR