BEGIN:VCALENDAR
VERSION:2.0
PRODID:-//Area Sismica - ECPv6.15.20//NONSGML v1.0//EN
CALSCALE:GREGORIAN
METHOD:PUBLISH
X-WR-CALNAME:Area Sismica
X-ORIGINAL-URL:https://www.areasismica.it
X-WR-CALDESC:Eventi per Area Sismica
REFRESH-INTERVAL;VALUE=DURATION:PT1H
X-Robots-Tag:noindex
X-PUBLISHED-TTL:PT1H
BEGIN:VTIMEZONE
TZID:Europe/Rome
BEGIN:DAYLIGHT
TZOFFSETFROM:+0100
TZOFFSETTO:+0200
TZNAME:CEST
DTSTART:20160327T010000
END:DAYLIGHT
BEGIN:STANDARD
TZOFFSETFROM:+0200
TZOFFSETTO:+0100
TZNAME:CET
DTSTART:20161030T010000
END:STANDARD
BEGIN:DAYLIGHT
TZOFFSETFROM:+0100
TZOFFSETTO:+0200
TZNAME:CEST
DTSTART:20170326T010000
END:DAYLIGHT
BEGIN:STANDARD
TZOFFSETFROM:+0200
TZOFFSETTO:+0100
TZNAME:CET
DTSTART:20171029T010000
END:STANDARD
BEGIN:DAYLIGHT
TZOFFSETFROM:+0100
TZOFFSETTO:+0200
TZNAME:CEST
DTSTART:20180325T010000
END:DAYLIGHT
BEGIN:STANDARD
TZOFFSETFROM:+0200
TZOFFSETTO:+0100
TZNAME:CET
DTSTART:20181028T010000
END:STANDARD
END:VTIMEZONE
BEGIN:VEVENT
DTSTART;TZID=Europe/Rome:20170115T180000
DTEND;TZID=Europe/Rome:20170115T200000
DTSTAMP:20260421T102157
CREATED:20161215T100505Z
LAST-MODIFIED:20170107T164714Z
UID:2418-1484503200-1484510400@www.areasismica.it
SUMMARY:THERMAL (GB - D) - data unica in Italia
DESCRIPTION:Rassegna Musiche Extra-Ordinarie \nJohn Butcher: sax\nAndy Moor: chitarra el.\nThomas Lehn: sintetizzatore analogico \nThe masters of the improvisation. Così vengono internazionalmente definiti i componenti di questo trio di vere e proprie star della musica attuale. Una descrizione tutto meno che iperbolica\, vista la traiettoria che i nostri eroi percorrono da decenni.\nDifficilmente classificabile\, John Butcher più che un polisassofonista è un monumento vivente alla musica del presente. Il suo percorso artistico del tutto originale lo ha portato a una sperimentazione estremamente originale. Come improvvisatore ha guadagnato meriti simili a quelli di un compositore classico-contemporaneo\, pur rimanendo un pilastro della scena jazz contemporanea. Artista colto e raffinato nello stile\, sia al tenore\, sia al soprano\, Butcher si basa su una nuova tipologia di espressione\, diventata il suo marchio di fabbrica.\nImportantissimi sono i suoi album in solo (come London & Cologne e Fixations 14)\, così come fondamentali sono state le collaborazioni come quelle con John Tilbury\, Fred Frith\, con Masaoka e Robair o con Toshimaru Nakamura.\nDa sempre avventuroso\, Andy Moor ha costruito una carriera leggendaria\, gran parte dovuta alla storica punk band olandese The Ex\, con cui ha dato vita a una serie di intrecci artistici con i massimi esponenti dell’avanguardia (quella con Tom Cora è ancora inarrivabile) e parallelamente con i pilastri musicali etiopi\, eritrei\, turchi. Innumerevoli le sue incursioni in spazi sempre nuovi come i recenti Lean Left (di cui è usicto il Live at Area Sismica) e come con Yannis Kyriakides\, compositore fondamentale della nostra epoca\, con cui ha anche fondato l’etichetta Unsound.\nNato come pianista contemporaneo\, Thomas Lehn\, alla fine degli anni ’80 devia verso progetti più legati ad ambiti improvvisativi\, oltre che a innumerevoli altri legati al teatro di avanguardia\, danza e arti multimediali\, iniziando a esplorare le possibilità della contaminazione elettronica. Negli anni ’90 inizia a utilizzare un sintetizzatore analogico (l’EMS Synthi A)\, con cui dilata e destruttura i suoi approcci improvvisativi. Le sue apparizioni ai festival internazionali sono innumerevoli e toccano tutti i 5 continenti ed è parte di una infinità di progetti\, come i Konk Pack\, Toot\, Futch\, Mimeo\, Speak Easy\, 6ix\, Vario-34 e di collaborazioni\, come quelle con Gerry Hemingway\, Paul Lovens\, Benoît Moreau John Tilbury\, Matthew Shipp\, ecc. \nIngresso €12\nArea Sismica è un circolo Arci
URL:https://www.areasismica.it/event/thermal-gb-d/
ATTACH;FMTTYPE=image/jpeg:https://www.areasismica.it/wp-content/uploads/2016/12/Thermal.jpg
END:VEVENT
END:VCALENDAR