BEGIN:VCALENDAR
VERSION:2.0
PRODID:-//Area Sismica - ECPv6.15.20//NONSGML v1.0//EN
CALSCALE:GREGORIAN
METHOD:PUBLISH
X-WR-CALNAME:Area Sismica
X-ORIGINAL-URL:https://www.areasismica.it
X-WR-CALDESC:Eventi per Area Sismica
REFRESH-INTERVAL;VALUE=DURATION:PT1H
X-Robots-Tag:noindex
X-PUBLISHED-TTL:PT1H
BEGIN:VTIMEZONE
TZID:Europe/Rome
BEGIN:DAYLIGHT
TZOFFSETFROM:+0100
TZOFFSETTO:+0200
TZNAME:CEST
DTSTART:20170326T010000
END:DAYLIGHT
BEGIN:STANDARD
TZOFFSETFROM:+0200
TZOFFSETTO:+0100
TZNAME:CET
DTSTART:20171029T010000
END:STANDARD
BEGIN:DAYLIGHT
TZOFFSETFROM:+0100
TZOFFSETTO:+0200
TZNAME:CEST
DTSTART:20180325T010000
END:DAYLIGHT
BEGIN:STANDARD
TZOFFSETFROM:+0200
TZOFFSETTO:+0100
TZNAME:CET
DTSTART:20181028T010000
END:STANDARD
BEGIN:DAYLIGHT
TZOFFSETFROM:+0100
TZOFFSETTO:+0200
TZNAME:CEST
DTSTART:20190331T010000
END:DAYLIGHT
BEGIN:STANDARD
TZOFFSETFROM:+0200
TZOFFSETTO:+0100
TZNAME:CET
DTSTART:20191027T010000
END:STANDARD
END:VTIMEZONE
BEGIN:VEVENT
DTSTART;TZID=Europe/Rome:20180217T220000
DTEND;TZID=Europe/Rome:20180217T235500
DTSTAMP:20260421T102631
CREATED:20180118T152709Z
LAST-MODIFIED:20180213T173804Z
UID:2684-1518904800-1518911700@www.areasismica.it
SUMMARY:THE CHICAGO PLAN (USA) + party a cura dei Residents DJ - Data unica in Italia
DESCRIPTION:Rassegna Musica Extra-Ordinaria \nConcerto + Party \nTHE CHICAGO PLAN (USA) \nData Unica in Italia \nGebhard Ullmann: sax tenore\, clarinetto basso\nSteve Swell: trombone\nFred Lonberg-Holm: violoncello\, elettroniche\nMichael Zerang: batteria\, percussioni \nDa oltre una decade questo dream team euro-americano\, formato Steve Swell\, Gebhard Ullmann\, Fred Lonberg-Holm e Michael Zerang\, ha tracciato un solco preciso nella definizione del jazz attuale\, spostando il centro gravitazionale della composizione istantanea verso sonorità caleidoscopiche. I Chicago Plan ha sviluppato uno stile improvvisativo unico\, che si palesa come fosse musica scritta\, rendendola estremamente accessibile anche a orecchie meno avvezze al jazz contemporaneo. Questo grazie a una comunione perfetta di quattro talenti sopraffini\, che da decenni solcano i più importanti palchi di tutto il mondo. \nIl concerto inaugura inoltre la formula “concerto + party” che avrà il suo fulcro quest’estate nel palco esterno di Area Sismica. Le feste\, a cura dei Residents Dj\, sono a ingresso libero. \nGebhard Ullmann ha studiato medicina e musica ad Amburgo\, prima di trasferirsi a Berlino nel 1983. Da allora ha registrato più di 50 CD come leader o co-leader e ha collaborato con una enormità di musicisti di ogni angolo del pianeta. Dalla metà degli anni ’90 insegna presso l’Università della Musica Hanns Eisler di Berlino. Nel 2014 è stato eletto direttore della German Jazz Musicians Union. \nSteve Swell\, newyorkese\, ha suonato e registrato con personalità jazzistiche come Lionel Hampton e Anthony Braxton. Ha all’attivo 40 registrazioni come leader o co-leader e oltre 100 come ospite. E’ ben noto per le sue collaborazioni con Cecil Taylor e Bill Dixon e per numerosi progetti con Barry Altschul e Hamid Drake. Insegna nelle scuole pubbliche di New York in progetti che coinvolgono bambini svantaggiati e ha ricevuto il Jubilation Foundation Fellowship Award della Tides Foundation a riconoscimento di questo lavoro. \nFred Lonberg-Holm ha studiato composizione con Morton Feldman\, Anthony Braxton\, Pauline Oliveros\, Bunita Marcus e Noah Creshevsky e violoncello con Orlando Cole e Ardyth Alton. I suoi progetti attuali comprendono Survival Unit III di Joe McPhee\, Seval\, The Valentine Trio\, The Boxhead Ensemble\, The Fast Citizen\, Ballister e numerosi altri. Oltre a comporre e suonare ha realizzato numerose installazioni sonore\, tra cui recentemente al Lincoln Park Conservatory\, Joymore e alla Geschiedle Gallery. \nMichael Zerang è un musicista\, compositore\, attivista e produttore chicagoano attivo dal 1976\, che spazia dalla musica improvvisata al free jazz\, dalla classica contemporanea al teatro performativo. Come percussionista e compositore\, Michael ha inciso oltre novanta titoli e ha suonato in 34 nazioni diverse. Lavora regolarmente con Hamid Drake (con il quale festeggia da decenni il compleanno suonando in duo)\, Peter Brötzmann\, Joe McPhee\, Jim Baker\, Kent Kessler\, Clayton Thomas\, Magda Mayas\, ecc. È stato il direttore artistico della Link’s Performance Series di Chicago\, dove attualkemye gestisce il Candlestick Maker. \n>>> A seguire faremo festa coi dj Marco Zanirato e dj Utto \n  \nConcerto ingresso €12 – Party ingresso libero\nArea Sismica è un circolo Arci
URL:https://www.areasismica.it/event/the-chicago-plan-usa-party-a-cura-dei-residents-dj/
ATTACH;FMTTYPE=image/jpeg:https://www.areasismica.it/wp-content/uploads/2018/01/ChicagoPlan.jpg
END:VEVENT
END:VCALENDAR