BEGIN:VCALENDAR
VERSION:2.0
PRODID:-//Area Sismica - ECPv6.15.20//NONSGML v1.0//EN
CALSCALE:GREGORIAN
METHOD:PUBLISH
X-WR-CALNAME:Area Sismica
X-ORIGINAL-URL:https://www.areasismica.it
X-WR-CALDESC:Eventi per Area Sismica
REFRESH-INTERVAL;VALUE=DURATION:PT1H
X-Robots-Tag:noindex
X-PUBLISHED-TTL:PT1H
BEGIN:VTIMEZONE
TZID:Europe/Rome
BEGIN:DAYLIGHT
TZOFFSETFROM:+0100
TZOFFSETTO:+0200
TZNAME:CEST
DTSTART:20220327T010000
END:DAYLIGHT
BEGIN:STANDARD
TZOFFSETFROM:+0200
TZOFFSETTO:+0100
TZNAME:CET
DTSTART:20221030T010000
END:STANDARD
BEGIN:DAYLIGHT
TZOFFSETFROM:+0100
TZOFFSETTO:+0200
TZNAME:CEST
DTSTART:20230326T010000
END:DAYLIGHT
BEGIN:STANDARD
TZOFFSETFROM:+0200
TZOFFSETTO:+0100
TZNAME:CET
DTSTART:20231029T010000
END:STANDARD
BEGIN:DAYLIGHT
TZOFFSETFROM:+0100
TZOFFSETTO:+0200
TZNAME:CEST
DTSTART:20240331T010000
END:DAYLIGHT
BEGIN:STANDARD
TZOFFSETFROM:+0200
TZOFFSETTO:+0100
TZNAME:CET
DTSTART:20241027T010000
END:STANDARD
END:VTIMEZONE
BEGIN:VEVENT
DTSTART;VALUE=DATE:20230113
DTEND;VALUE=DATE:20230116
DTSTAMP:20260422T180414
CREATED:20231202T082504Z
LAST-MODIFIED:20231202T082607Z
UID:337045-1673568000-1673827199@www.areasismica.it
SUMMARY:residenza artistica > STEFANO PILIA\, ALESSANDRA NOVAGA\, FRANCESCO DIODATI\, STEFANO CALDERANO
DESCRIPTION:Stefano Pilia: chitarra elettrica\nAlessandra Novaga: chitarra elettrica\nFrancesco Diodati: chitarra elettrica\nStefano Calderano: chitarra elettrica \n 
URL:https://www.areasismica.it/event/residenza-artistica-stefano-pilia-alessandra-novaga-francesco-diodati-stefano-calderano/
ATTACH;FMTTYPE=image/jpeg:https://www.areasismica.it/wp-content/uploads/2022/12/pilia4tetweb.jpg
END:VEVENT
END:VCALENDAR