BEGIN:VCALENDAR
VERSION:2.0
PRODID:-//Area Sismica - ECPv6.15.20//NONSGML v1.0//EN
CALSCALE:GREGORIAN
METHOD:PUBLISH
X-WR-CALNAME:Area Sismica
X-ORIGINAL-URL:https://www.areasismica.it
X-WR-CALDESC:Eventi per Area Sismica
REFRESH-INTERVAL;VALUE=DURATION:PT1H
X-Robots-Tag:noindex
X-PUBLISHED-TTL:PT1H
BEGIN:VTIMEZONE
TZID:Europe/Rome
BEGIN:DAYLIGHT
TZOFFSETFROM:+0100
TZOFFSETTO:+0200
TZNAME:CEST
DTSTART:20140330T010000
END:DAYLIGHT
BEGIN:STANDARD
TZOFFSETFROM:+0200
TZOFFSETTO:+0100
TZNAME:CET
DTSTART:20141026T010000
END:STANDARD
BEGIN:DAYLIGHT
TZOFFSETFROM:+0100
TZOFFSETTO:+0200
TZNAME:CEST
DTSTART:20150329T010000
END:DAYLIGHT
BEGIN:STANDARD
TZOFFSETFROM:+0200
TZOFFSETTO:+0100
TZNAME:CET
DTSTART:20151025T010000
END:STANDARD
BEGIN:DAYLIGHT
TZOFFSETFROM:+0100
TZOFFSETTO:+0200
TZNAME:CEST
DTSTART:20160327T010000
END:DAYLIGHT
BEGIN:STANDARD
TZOFFSETFROM:+0200
TZOFFSETTO:+0100
TZNAME:CET
DTSTART:20161030T010000
END:STANDARD
END:VTIMEZONE
BEGIN:VEVENT
DTSTART;TZID=Europe/Rome:20150208T180000
DTEND;TZID=Europe/Rome:20150208T200000
DTSTAMP:20260421T003529
CREATED:20141221T100550Z
LAST-MODIFIED:20150209T055536Z
UID:2062-1423418400-1423425600@www.areasismica.it
SUMMARY:POPOLLA\, RAFFONE\, ROSSI\, RYAN\, TROVALUSCI & VENITUCCI (I-GB)
DESCRIPTION:rassegna musica inaudita \n  \nGianni Trovalusci: flauti\nTommaso Rossi: flauti\nAlberto Popolla: clarinetti\nDavid Ryan: clarinetti\nLuca Venitucci: fisarmonica\nNicola Raffone: percussioni \n  \nFormazione stellare che interpreterà recenti composizioni di due grandi sperimentatori\, Microexercises 1 & 2 (2006/7) di Christian Wolff e il nuovo progetto ‘Fake book’ (2014) di Alvin Curran.\nAll’interno e intorno a questi brani vi saranno improvvisazioni in combinazioni diverse.\nL’ensemble non si discute e solo problemi di spazio di questo sito web non permettono di donare i giusti contorni a ognuno dei componenti di questo progetto. \nGianni Trovalusci fin dagli anni settanta è attivo nel campo della musica contemporanea\, antica\, nel teatro musicale e performance d’avanguardia. È segretario artistico del Progetto Sonora e tra i coordinatori delle attività della Federazione Cemat. \nTommaso Rossi partecipa stabilmente all’attività concertistica e discografica de I Turchini di Antonio Florio con cui ha inciso per Opus 111\, ha Fondato l’Ensemble Barocco di Napoli con cui ha Registrato un CD di sonate e cantate di Alessandro Scarlatti ed è presidente dell’associazione Dissonanzen di Napoli. \nAlberto Popolla\, musicista e compositore\, con il clarinetto basso ha esplorato le sonorità e le infinite risorse timbriche dello strumento e le tecniche di improvvisazione. E’ stato protagonista di situazioni più propriamente jazzistiche\, come la London Improvisers Orchestra. \nDavid Ryan è un artista visuale e musicista\, particolarmente interessato alla musica sperimentale\, ha lavorato in vari gruppi ed ensemble interessando varie sfere artistiche. Ha lavorato a stretto contatto con numerosi compositori e musicisti come Christian Wolff\, Earle Brown\, John Tilbury\, Eddie Prevost\, ecc. \nNicola Raffone è attivo dai primi anni ‘70\, ha contribuito alla nascita di varie formazioni coagulatesi intorno ai corsi di jazz tenuti da Giorgio Gaslini. Ha sviluppato il suo percorso in modo aperto alla comunicazione tra esperienze e linguaggi diversi: elaborazione di modi popolari – Lucilla Galeazzi -\, forme aperte di composizione ed improvvisazione – Gruppo Beat 72\, Luca Venitucci\, Giovanni Guaccero -\, opere di teatro musicale – Luigi Cinque\, Fabrizio De Rossi Re -\, interazione con allestimenti di artisti visivi ed ambientali – Paolo Buggiani\, Bizhan Bassiri\, Mario Ciccioli. \nLuca Venitucci\, fondatore del gruppo di improvvisazione elettroacustica Ossatura\, è stato parte del Zeitkratzer Ensemble\, con il quale ha eseguito e registrato composizioni di musica contemporanea (Cage\, Glass\, Stockhausen\, LaMonte Young\, James Tenney…) e contribuito alla composizione di musiche originali collaborando con artisti quali: Christian Marclay\, Butch Morris\, Elliott Sharp\, John Duncan\, Keith Rowe\, Masami Akita\, Phill Niblock. \n  \nIngresso €12\nArea Sismica è un circolo Arci \nCondividi
URL:https://www.areasismica.it/event/popolla-raffone-rossi-ryan-trovalusci-venitucci-i-gb/
ATTACH;FMTTYPE=image/jpeg:https://www.areasismica.it/wp-content/uploads/2014/12/ryan6th.jpg
END:VEVENT
END:VCALENDAR