BEGIN:VCALENDAR
VERSION:2.0
PRODID:-//Area Sismica - ECPv6.15.20//NONSGML v1.0//EN
CALSCALE:GREGORIAN
METHOD:PUBLISH
X-WR-CALNAME:Area Sismica
X-ORIGINAL-URL:https://www.areasismica.it
X-WR-CALDESC:Eventi per Area Sismica
REFRESH-INTERVAL;VALUE=DURATION:PT1H
X-Robots-Tag:noindex
X-PUBLISHED-TTL:PT1H
BEGIN:VTIMEZONE
TZID:Europe/Rome
BEGIN:DAYLIGHT
TZOFFSETFROM:+0100
TZOFFSETTO:+0200
TZNAME:CEST
DTSTART:20130331T010000
END:DAYLIGHT
BEGIN:STANDARD
TZOFFSETFROM:+0200
TZOFFSETTO:+0100
TZNAME:CET
DTSTART:20131027T010000
END:STANDARD
BEGIN:DAYLIGHT
TZOFFSETFROM:+0100
TZOFFSETTO:+0200
TZNAME:CEST
DTSTART:20140330T010000
END:DAYLIGHT
BEGIN:STANDARD
TZOFFSETFROM:+0200
TZOFFSETTO:+0100
TZNAME:CET
DTSTART:20141026T010000
END:STANDARD
BEGIN:DAYLIGHT
TZOFFSETFROM:+0100
TZOFFSETTO:+0200
TZNAME:CEST
DTSTART:20150329T010000
END:DAYLIGHT
BEGIN:STANDARD
TZOFFSETFROM:+0200
TZOFFSETTO:+0100
TZNAME:CET
DTSTART:20151025T010000
END:STANDARD
END:VTIMEZONE
BEGIN:VEVENT
DTSTART;TZID=Europe/Rome:20141214T180000
DTEND;TZID=Europe/Rome:20141214T200000
DTSTAMP:20260421T053551
CREATED:20141128T221037Z
LAST-MODIFIED:20141218T233326Z
UID:2046-1418580000-1418587200@www.areasismica.it
SUMMARY:POMERIGGIO ANIMATO - corti di animazione a cura di Andrea Martignoni
DESCRIPTION:Al di là di ogni aspettativa ANIMAZIONI3 vede la luce e nasce dopo due anni dal precedente volume.\nUna scadenza che si rinnova di volta in volta e a cui piacevolmente ci si comincia ad abituare. \nL’animazione d’autore italiana ha avuto modo\, in questi ultimi cinque anni\, di crescere nella capacità di comunicazione\, dei suoi artisti\, all’interno del piccolo\, ma ancor troppo frammentato\, mondo dell’animazione italiana. \nBisogna ammettere che\, al di là delle aspettative dei curatori ed editori\, le due precedenti pubblicazioni in DVD\, sono state strumenti fondamentali per ampliare le possibilità di dialogo verso l’esterno e rendere l’animazione italiana più semplicemente e naturalmente internazionale. \nLa coscienza della qualità di tutti i film comprresi in ANIMAZIONI3 caratterizzati da una\, se possibile\, decisa differenziazione stilistica\, tecnica ed espressiva\, dimostra\, ancor più di prima\, quanto vitale sia la scena contemporanea dell’animazione d’autore in Italia e all’estero. \ningresso libero\nArea Sismica è un circolo Arci \nCondividi
URL:https://www.areasismica.it/event/pomeriggio-animato-corti-di-animazione-a-cura-di-andrea-martignoni/
ATTACH;FMTTYPE=image/jpeg:https://www.areasismica.it/wp-content/uploads/2014/11/animazioni3.jpg
END:VEVENT
END:VCALENDAR