BEGIN:VCALENDAR
VERSION:2.0
PRODID:-//Area Sismica - ECPv6.15.20//NONSGML v1.0//EN
CALSCALE:GREGORIAN
METHOD:PUBLISH
X-WR-CALNAME:Area Sismica
X-ORIGINAL-URL:https://www.areasismica.it
X-WR-CALDESC:Eventi per Area Sismica
REFRESH-INTERVAL;VALUE=DURATION:PT1H
X-Robots-Tag:noindex
X-PUBLISHED-TTL:PT1H
BEGIN:VTIMEZONE
TZID:Europe/Rome
BEGIN:DAYLIGHT
TZOFFSETFROM:+0100
TZOFFSETTO:+0200
TZNAME:CEST
DTSTART:20170326T010000
END:DAYLIGHT
BEGIN:STANDARD
TZOFFSETFROM:+0200
TZOFFSETTO:+0100
TZNAME:CET
DTSTART:20171029T010000
END:STANDARD
BEGIN:DAYLIGHT
TZOFFSETFROM:+0100
TZOFFSETTO:+0200
TZNAME:CEST
DTSTART:20180325T010000
END:DAYLIGHT
BEGIN:STANDARD
TZOFFSETFROM:+0200
TZOFFSETTO:+0100
TZNAME:CET
DTSTART:20181028T010000
END:STANDARD
BEGIN:DAYLIGHT
TZOFFSETFROM:+0100
TZOFFSETTO:+0200
TZNAME:CEST
DTSTART:20190331T010000
END:DAYLIGHT
BEGIN:STANDARD
TZOFFSETFROM:+0200
TZOFFSETTO:+0100
TZNAME:CET
DTSTART:20191027T010000
END:STANDARD
END:VTIMEZONE
BEGIN:VEVENT
DTSTART;TZID=Europe/Rome:20180728T203000
DTEND;TZID=Europe/Rome:20180728T220000
DTSTAMP:20260422T001011
CREATED:20180517T141134Z
LAST-MODIFIED:20180715T163857Z
UID:2734-1532809800-1532815200@www.areasismica.it
SUMMARY:PEPE MEDRI & TIMBUCTU ORKESTRA | cena + concerto
DESCRIPTION:ore 20.30 Cena a cura di Paella Boom Boom\n>>> a seguire concerto di\nPEPE MEDRI & TIMBUCTU ORKESTRA\nPepe Medri: organetto diatonico\, bandoneon\, sega\nGiancarlo Bianchetti: chitarra e percussioni\nGianluca Ravaglia: contrabasso\nDimitri Sillato: piano el.\, violino\n>>> per la cena è gradita la prenotazione > info@areasismica.it \nTimbuctù\, la regina delle sabbie\, città dove anche gli animali parlano con gli uomini\, terra antica di scambi culturali tra etnie diverse. Un nome che è tutto un programma per un gruppo musicale. Un nome che è il passaporto per un suono frutto della fantasia\, dell’estro che non si deve preoccupare del linguaggio o dello stile. Il gruppo capeggiato da Pepe Medri\, fa dell’improvvisazione un vero stile di vita e non\, come spesso accade\, un’etichetta per vivacchiare meglio nel mercato. La musica della Timbuktu’ Orkestra\, alterna momenti totalmente improvvisati ad altri interamente orali\, nella più classica tradizione popolare. Così ci prende per mano per giungere all’unica città che vale la pena abitare: la nostra anima. \n  \ncena + concerto €15\nconcerto €10\narea sismica è un circolo arci \n  \nIn caso di maltempo sia la cena\, sia il concerto si terranno all’interno della sede di Area Sismica.
URL:https://www.areasismica.it/event/pepe-medri-timbuctu-orkestra-cena-concerto/
ATTACH;FMTTYPE=image/jpeg:https://www.areasismica.it/wp-content/uploads/2018/05/timbuctu.jpg
END:VEVENT
END:VCALENDAR