BEGIN:VCALENDAR
VERSION:2.0
PRODID:-//Area Sismica - ECPv6.15.20//NONSGML v1.0//EN
CALSCALE:GREGORIAN
METHOD:PUBLISH
X-WR-CALNAME:Area Sismica
X-ORIGINAL-URL:https://www.areasismica.it
X-WR-CALDESC:Eventi per Area Sismica
REFRESH-INTERVAL;VALUE=DURATION:PT1H
X-Robots-Tag:noindex
X-PUBLISHED-TTL:PT1H
BEGIN:VTIMEZONE
TZID:Europe/Rome
BEGIN:DAYLIGHT
TZOFFSETFROM:+0100
TZOFFSETTO:+0200
TZNAME:CEST
DTSTART:20170326T010000
END:DAYLIGHT
BEGIN:STANDARD
TZOFFSETFROM:+0200
TZOFFSETTO:+0100
TZNAME:CET
DTSTART:20171029T010000
END:STANDARD
BEGIN:DAYLIGHT
TZOFFSETFROM:+0100
TZOFFSETTO:+0200
TZNAME:CEST
DTSTART:20180325T010000
END:DAYLIGHT
BEGIN:STANDARD
TZOFFSETFROM:+0200
TZOFFSETTO:+0100
TZNAME:CET
DTSTART:20181028T010000
END:STANDARD
BEGIN:DAYLIGHT
TZOFFSETFROM:+0100
TZOFFSETTO:+0200
TZNAME:CEST
DTSTART:20190331T010000
END:DAYLIGHT
BEGIN:STANDARD
TZOFFSETFROM:+0200
TZOFFSETTO:+0100
TZNAME:CET
DTSTART:20191027T010000
END:STANDARD
END:VTIMEZONE
BEGIN:VEVENT
DTSTART;TZID=Europe/Rome:20181202T180000
DTEND;TZID=Europe/Rome:20181202T200000
DTSTAMP:20260421T104139
CREATED:20180829T123548Z
LAST-MODIFIED:20181116T162251Z
UID:2766-1543773600-1543780800@www.areasismica.it
SUMMARY:THE MORPH TRIO (GB)
DESCRIPTION:Rassegna Musiche Extra-Ordinarie \nChris Biscoe: sax alto e soprano\, clarinetto alto\nJohn Pope: contrabbasso\nRoger Turner: batteria\, percussioni \n  \nIl 2018 continua con un trio ancora una volta stellare\, The Morph Trio\, formazione acustica appena formata\, che esplora i territori tra vocabolari jazz e improvvisazione libera\, flettendo tempo e ritmo in strati tattili a densità variabile. L’estetica è rivolta verso un chiaro focus melodico\, che scaturisce dalle chilometriche esperienze di ciascuno dei tre musicisti. \nChris Biscoe\, sassofonista che si divide tra Inghilterra e USA\, ha collaborato con George Russell\, Mike Westbrook e Chris McGregor e ha inciso sue esplorazioni sulle composizioni di Eric Dolphy e Charles Mingus. Ha anche suonato con David Murray\, Hermeto Pascoal\, Kenny Wheeler\, Han Bennink e la New York Composers Orchestra\, Evan Parker\, Eddie Prevost\, John Edwards\, Ingrid Laubrock\, Elton Dean e Lol Coxhill e tanti altri. \nJohn Pope è un giovane bassista con una intensa esperienza nei mondi musicali del jazz\, del funk e anche del rock Ha lavorato con Joe Morris\, Tony Bevan\, Rhodri Davies\, Paul Smith (Maximo Park)\, Barry Hyde (Futureheads)\, Simon Rose\, Pascal Nichols\, Faye MacCalman. \nTurner ha lavorato come batterista e percussionista sin dai primi anni ’70\, giocando un ruolo fondamentale nel mondo dell’improvvisazione. E’ stato una parte essenziale dei gruppi che hanno contribuito a definire le musiche internazionali improvvisate e nuove: the Recedents\, Tradition Trio\, Phil Minton Quartet\, Konk Pack\, ecc. Ha collaborato con Annette Peacock\, Cecil Taylor\, Masahiko Satoh\, Charles Gayle\, Lol Coxhill\, Derek Bailey\, Otomo Yoshihide\, Alan Silva\, Keith Rowe\, per citarne solo alcuni… \n  \n\ningresso €12\n\n\nArea Sismica è un circolo Arci
URL:https://www.areasismica.it/event/morphology-gb/
ATTACH;FMTTYPE=image/jpeg:https://www.areasismica.it/wp-content/uploads/2018/08/morph.jpg
END:VEVENT
END:VCALENDAR