BEGIN:VCALENDAR
VERSION:2.0
PRODID:-//Area Sismica - ECPv6.15.20//NONSGML v1.0//EN
CALSCALE:GREGORIAN
METHOD:PUBLISH
X-WR-CALNAME:Area Sismica
X-ORIGINAL-URL:https://www.areasismica.it
X-WR-CALDESC:Eventi per Area Sismica
REFRESH-INTERVAL;VALUE=DURATION:PT1H
X-Robots-Tag:noindex
X-PUBLISHED-TTL:PT1H
BEGIN:VTIMEZONE
TZID:Europe/Rome
BEGIN:DAYLIGHT
TZOFFSETFROM:+0100
TZOFFSETTO:+0200
TZNAME:CEST
DTSTART:20160327T010000
END:DAYLIGHT
BEGIN:STANDARD
TZOFFSETFROM:+0200
TZOFFSETTO:+0100
TZNAME:CET
DTSTART:20161030T010000
END:STANDARD
BEGIN:DAYLIGHT
TZOFFSETFROM:+0100
TZOFFSETTO:+0200
TZNAME:CEST
DTSTART:20170326T010000
END:DAYLIGHT
BEGIN:STANDARD
TZOFFSETFROM:+0200
TZOFFSETTO:+0100
TZNAME:CET
DTSTART:20171029T010000
END:STANDARD
BEGIN:DAYLIGHT
TZOFFSETFROM:+0100
TZOFFSETTO:+0200
TZNAME:CEST
DTSTART:20180325T010000
END:DAYLIGHT
BEGIN:STANDARD
TZOFFSETFROM:+0200
TZOFFSETTO:+0100
TZNAME:CET
DTSTART:20181028T010000
END:STANDARD
END:VTIMEZONE
BEGIN:VEVENT
DTSTART;TZID=Europe/Rome:20170326T180000
DTEND;TZID=Europe/Rome:20170326T200000
DTSTAMP:20260421T153758
CREATED:20170218T091854Z
LAST-MODIFIED:20170321T173947Z
UID:2440-1490551200-1490558400@www.areasismica.it
SUMMARY:MIRRA & CALCAGNILE - SUNESCAPE (Ita)
DESCRIPTION:Rassegna Musiche Extra-Ordinarie \nSUNESCAPE \nPasquale Mirra: vibrafono\, percussioni\nCristiano Calcagnile: batteria\, percussioni \nCristiano Calcagnile e Pasquale Mirra proiettano le loro energie nella compattezza del duo\, la loro complementarietà nella peculiare attitudine al ritmo\, al suono e alle forme di libera improvvisazione. \nCalcagnile lavora con i nomi più importanti della scena nazionale ed internazionale in qualità di side-man e di produttore e co-produttore di progetti originali. Ha svolto tournée in Italia e nel mondo esibendosi nei più importanti festival di Jazz\, Rock e d’avanguardia. Tra le sue più importanti collaborazioni ricordiamo: Anthony Braxton\, Tristan Honsingen\, Rova Saxophone Quartet\, Cristina Zavalloni\, Stefano Bollani\, Gianluca Petrella\, Butch Morris\, Damo Suzuki e molti altri. \nMirra è  considerato uno dei vibrafonisti più interessanti della scena italiana ed internazionale. Suona con grandi improvvisatori della scena mondiale\, tra i quali: Michel Portal\, Fred Frith\, Nicole Mitchell\, Tristan Honsinger\, Ernst Rijseger\, Rob Mazurek\, Ballakè Sissoko\, Buch Morris\, Lansiné Kouyaté\, Jeff Parker\, Micheal Blake\, Paolo Angeli e molti altri. Dal 2008 collabora stabilmente con il noto percussionista americano Hamid Drake\, partecipando a numerosi festival in America e in Europa. È membro del Collettivo Bassesfere. \ningresso €10 area sismica è un circolo arci \n  \n 
URL:https://www.areasismica.it/event/mirra-calcagnile-ita/
ATTACH;FMTTYPE=image/jpeg:https://www.areasismica.it/wp-content/uploads/2017/02/Mirra_Calc.jpg
END:VEVENT
END:VCALENDAR