BEGIN:VCALENDAR
VERSION:2.0
PRODID:-//Area Sismica - ECPv6.15.20//NONSGML v1.0//EN
CALSCALE:GREGORIAN
METHOD:PUBLISH
X-WR-CALNAME:Area Sismica
X-ORIGINAL-URL:https://www.areasismica.it
X-WR-CALDESC:Eventi per Area Sismica
REFRESH-INTERVAL;VALUE=DURATION:PT1H
X-Robots-Tag:noindex
X-PUBLISHED-TTL:PT1H
BEGIN:VTIMEZONE
TZID:Europe/Rome
BEGIN:DAYLIGHT
TZOFFSETFROM:+0100
TZOFFSETTO:+0200
TZNAME:CEST
DTSTART:20220327T010000
END:DAYLIGHT
BEGIN:STANDARD
TZOFFSETFROM:+0200
TZOFFSETTO:+0100
TZNAME:CET
DTSTART:20221030T010000
END:STANDARD
BEGIN:DAYLIGHT
TZOFFSETFROM:+0100
TZOFFSETTO:+0200
TZNAME:CEST
DTSTART:20230326T010000
END:DAYLIGHT
BEGIN:STANDARD
TZOFFSETFROM:+0200
TZOFFSETTO:+0100
TZNAME:CET
DTSTART:20231029T010000
END:STANDARD
BEGIN:DAYLIGHT
TZOFFSETFROM:+0100
TZOFFSETTO:+0200
TZNAME:CEST
DTSTART:20240331T010000
END:DAYLIGHT
BEGIN:STANDARD
TZOFFSETFROM:+0200
TZOFFSETTO:+0100
TZNAME:CET
DTSTART:20241027T010000
END:STANDARD
END:VTIMEZONE
BEGIN:VEVENT
DTSTART;TZID=Europe/Rome:20230718T210000
DTEND;TZID=Europe/Rome:20230718T210000
DTSTAMP:20260422T022739
CREATED:20230715T094621Z
LAST-MODIFIED:20240120T143415Z
UID:336908-1689714000-1689714000@www.areasismica.it
SUMMARY:MAT - Allulli\, Diodati\, Baron (Ita)
DESCRIPTION:Rassegna Musica Inaudita \nMAT \nMarcello Allulli – sax tenore\nFrancesco Diodati – chitarra\nErmanno Baron – batteria \nl trio composto da Marcello Allulli\, Francesco Diodati ed Ermanno Baron presenta il nuovo album. \nUna totale fiducia reciproca che si traduce in concerti carichi di tensione emotiva in cui rapide sferzate noise si alternano a momenti lirici\, cori di sinuose melodie si sovrappongono a incastri ritmici complessi. MAT è un getto sonoro dalle dinamiche estreme che tengono con il fiato sospeso fino all’ultima nota. Ingresso\, come sempre\, gratuito. \nIl trio nasce nel 2007 e presto si fa notare per la profonda e spregiudicata ricerca in cui suoni acustici ed elettronici si fondono indissolubilmente. D’altronde il percorso di Marcello Allulli\, Ermanno Baron e Francesco Diodati parla chiaro: una formazione cominciata nei conservatori\, seminari e workshop di jazz e musica classica che si sviluppa fra frequenti session informali\, residenze artistiche\, viaggi e concerti in tutto il mondo. \nIl trio ha registrato tre album (Hermanos\, MAT\, Musgo Y Luna)\, nei quali incontrano musicisti del calibro di Fabrizio Bosso\, Antonello Salis\, Glauco Venier\, Javier Moreno Sanchez. Nel 2021 esce l’album In front of per la prestigiosa Tuk Music. La copertina è impreziosita dall’opera King Kong R’n’R dell’artista Bankeri. \nIn front of è una storia di otto capitoli dove tutti i musicisti sono autori\, interpreti e arrangiatori. Il disco è la sintesi di un pensiero sempre in movimento che ha portato il MAT a essere un gruppo dove ogni componente è parte attiva e pensante di ogni dettaglio; il risultato della ricerca di tre persone che hanno la necessità di mettersi continuamente in discussione musicalmente e di lavorare insieme sul mistero che la musica e l’arte portano con sé. Il suono del trio come un unicum organico è infatti il filo conduttore attraverso il quale seguire un racconto musicale fatto di ballate struggenti\, ritmi serrati\, astrazioni oniriche: In front of è la title track composta da Baron; River\, Brothers e Song for Migrants sono di Diodati\, Ornette\, Perché ed Edele sono composte da Allulli. Impro River è l’ultimo brano del disco\, un momento di composizione spontanea libero e immaginifico. \nINGRESSO LIBERO \nCucina aperta nelle sere di concerto \ninfo e prenotazioni: 345 6638289
URL:https://www.areasismica.it/event/mat-allulli-diodati-baron-ita/
ATTACH;FMTTYPE=image/jpeg:https://www.areasismica.it/wp-content/uploads/2023/07/Matweb.jpg
END:VEVENT
END:VCALENDAR