BEGIN:VCALENDAR
VERSION:2.0
PRODID:-//Area Sismica - ECPv6.15.20//NONSGML v1.0//EN
CALSCALE:GREGORIAN
METHOD:PUBLISH
X-WR-CALNAME:Area Sismica
X-ORIGINAL-URL:https://www.areasismica.it
X-WR-CALDESC:Eventi per Area Sismica
REFRESH-INTERVAL;VALUE=DURATION:PT1H
X-Robots-Tag:noindex
X-PUBLISHED-TTL:PT1H
BEGIN:VTIMEZONE
TZID:Europe/Rome
BEGIN:DAYLIGHT
TZOFFSETFROM:+0100
TZOFFSETTO:+0200
TZNAME:CEST
DTSTART:20140330T010000
END:DAYLIGHT
BEGIN:STANDARD
TZOFFSETFROM:+0200
TZOFFSETTO:+0100
TZNAME:CET
DTSTART:20141026T010000
END:STANDARD
BEGIN:DAYLIGHT
TZOFFSETFROM:+0100
TZOFFSETTO:+0200
TZNAME:CEST
DTSTART:20150329T010000
END:DAYLIGHT
BEGIN:STANDARD
TZOFFSETFROM:+0200
TZOFFSETTO:+0100
TZNAME:CET
DTSTART:20151025T010000
END:STANDARD
BEGIN:DAYLIGHT
TZOFFSETFROM:+0100
TZOFFSETTO:+0200
TZNAME:CEST
DTSTART:20160327T010000
END:DAYLIGHT
BEGIN:STANDARD
TZOFFSETFROM:+0200
TZOFFSETTO:+0100
TZNAME:CET
DTSTART:20161030T010000
END:STANDARD
END:VTIMEZONE
BEGIN:VEVENT
DTSTART;TZID=Europe/Rome:20150215T180000
DTEND;TZID=Europe/Rome:20150215T200000
DTSTAMP:20260420T225935
CREATED:20141221T100948Z
LAST-MODIFIED:20150216T165940Z
UID:2065-1424023200-1424030400@www.areasismica.it
SUMMARY:JOHN BUTCHER (GB) - data unica in Italia
DESCRIPTION: data unica in Italia \nrassegna musica extra-ordinaria \nSassofoni \nDifficilmente classificabile\, John Butcher più che un polisassofonista è un monumento vivente alla musica del presente. Il suo percorso artistico del tutto originale lo ha portato a una sperimentazione estremamente originale.\nCome improvvisatore ha guadagnato meriti simili a quelli di un compositore classico-contemporaneo\, pur rimanendo anche un pilastro della scena jazz contemporanea. \nImportantissimi sono i suoi album in solo (come London & Cologne e Fixations 14)\, così come fondamentali sono state le collaborazioni come quelle con John Tilbury\, con Masaoka e Robair o con Toshimaru Nakamura.\nArtista colto e raffinato nello stile\, sia al tenore\, sia al soprano\, Butcher si basa su una nuova tipologia di espressione\, diventata il suo marchio di fabbrica. \nIngresso €10\nArea Sismica è un circolo Arci \nCondividi
URL:https://www.areasismica.it/event/john-butcher-gb/
ATTACH;FMTTYPE=image/jpeg:https://www.areasismica.it/wp-content/uploads/2014/12/Butcher.jpg
END:VEVENT
END:VCALENDAR