BEGIN:VCALENDAR
VERSION:2.0
PRODID:-//Area Sismica - ECPv6.15.20//NONSGML v1.0//EN
CALSCALE:GREGORIAN
METHOD:PUBLISH
X-WR-CALNAME:Area Sismica
X-ORIGINAL-URL:https://www.areasismica.it
X-WR-CALDESC:Eventi per Area Sismica
REFRESH-INTERVAL;VALUE=DURATION:PT1H
X-Robots-Tag:noindex
X-PUBLISHED-TTL:PT1H
BEGIN:VTIMEZONE
TZID:Europe/Rome
BEGIN:DAYLIGHT
TZOFFSETFROM:+0100
TZOFFSETTO:+0200
TZNAME:CEST
DTSTART:20140330T010000
END:DAYLIGHT
BEGIN:STANDARD
TZOFFSETFROM:+0200
TZOFFSETTO:+0100
TZNAME:CET
DTSTART:20141026T010000
END:STANDARD
BEGIN:DAYLIGHT
TZOFFSETFROM:+0100
TZOFFSETTO:+0200
TZNAME:CEST
DTSTART:20150329T010000
END:DAYLIGHT
BEGIN:STANDARD
TZOFFSETFROM:+0200
TZOFFSETTO:+0100
TZNAME:CET
DTSTART:20151025T010000
END:STANDARD
BEGIN:DAYLIGHT
TZOFFSETFROM:+0100
TZOFFSETTO:+0200
TZNAME:CEST
DTSTART:20160327T010000
END:DAYLIGHT
BEGIN:STANDARD
TZOFFSETFROM:+0200
TZOFFSETTO:+0100
TZNAME:CET
DTSTART:20161030T010000
END:STANDARD
END:VTIMEZONE
BEGIN:VEVENT
DTSTART;VALUE=DATE:20150426
DTEND;VALUE=DATE:20150427
DTSTAMP:20260420T143315
CREATED:20150315T102721Z
LAST-MODIFIED:20150509T202639Z
UID:2107-1430006400-1430092799@www.areasismica.it
SUMMARY:NATURAL INFORMATION SOCIETY (USA) | II HAIKUFestival dedicato a Pierantonio
DESCRIPTION:Joshua Abrams: guimbri\, contrabbasso\nLisa Alvarado: harmonium\, gong\nFrank Rosaly: batteria \nCompositore e polistrumentista\, Joshua Abrams ha pubblicato otto album\, collaborato a oltre un centinaio di registrazioni e composto colonne sonore\, anche per opere vincitrici di un Emmy award\, come The Trials of Muhammad Ali. \nIl New York Times descrive il suo cd Represencing come “musica che allude alla tradizione\, senza perdere le sue connessioni con il presente” e The Village Voice ha descritto il suo disco di Unknown Known come “uno dei migliori 10 album jazz del 2013”. \nE’ stato uno dei membri fondatori del collettivo “back porch minimalism” Town and Country e del trio Sticks and Stones con Matana Roberts e Chad Taylor. \nPrincipalmente noto come bassista\, ha collaborato con Roscoe Mitchell\, Hamid Drake\, Peter Brotzmann\, Bill Dixon\, John Tchicai\, Joe McPhee\, Gerald Cleaver\, Axel Dorner\, Damo Suzuki\, Craig Taborn e Earle Brown. \nMemorabile il suo apporto al quintetto Sound Is di Rob Mazurek. \nNatural Information Society è il nome del progetto che Abrams presenterà in questo evento\, imperniato intorno al suono del guimbri (o sintir)\, uno strumento originario della Guinea\, ma diffuso nel nord Africa\, integrando composizione e improvvisazione per creare tappeti ipnotici\, fortemente ritmici\, grazie all’apporto di musicisti di altissima caratura\, come Lisa Alvarado\, fondamentale in questa formazione nel donare i colori più coinvolgenti\, e  come Frank Rosaly\, batterista stellare\, agitatore della scena di Chicago\, creatore del sestetto Cicada Music e di Milkwork\, suo straordinario progetto in solo. E’ presente in una miriade di band\, come ad esempio The Rempis Percussion Quartet\, Ingebrigt Haker-Flaten Quintet\, Nicole Mitchell Ice Crystal Quartet\, Jason Stein Quartet\, Jeff Parker/Nels Cline Quartet\, Jason Adasievicz’s Rolldown. \n 
URL:https://www.areasismica.it/event/ii-haikufestival-dedicato-a-pierantonio-bob-ostertag-usa-natural-information-society-usa/
ATTACH;FMTTYPE=image/jpeg:https://www.areasismica.it/wp-content/uploads/2015/03/Haiku4.jpg
END:VEVENT
END:VCALENDAR