BEGIN:VCALENDAR
VERSION:2.0
PRODID:-//Area Sismica - ECPv6.15.20//NONSGML v1.0//EN
CALSCALE:GREGORIAN
METHOD:PUBLISH
X-WR-CALNAME:Area Sismica
X-ORIGINAL-URL:https://www.areasismica.it
X-WR-CALDESC:Eventi per Area Sismica
REFRESH-INTERVAL;VALUE=DURATION:PT1H
X-Robots-Tag:noindex
X-PUBLISHED-TTL:PT1H
BEGIN:VTIMEZONE
TZID:Europe/Rome
BEGIN:DAYLIGHT
TZOFFSETFROM:+0100
TZOFFSETTO:+0200
TZNAME:CEST
DTSTART:20210328T010000
END:DAYLIGHT
BEGIN:STANDARD
TZOFFSETFROM:+0200
TZOFFSETTO:+0100
TZNAME:CET
DTSTART:20211031T010000
END:STANDARD
BEGIN:DAYLIGHT
TZOFFSETFROM:+0100
TZOFFSETTO:+0200
TZNAME:CEST
DTSTART:20220327T010000
END:DAYLIGHT
BEGIN:STANDARD
TZOFFSETFROM:+0200
TZOFFSETTO:+0100
TZNAME:CET
DTSTART:20221030T010000
END:STANDARD
BEGIN:DAYLIGHT
TZOFFSETFROM:+0100
TZOFFSETTO:+0200
TZNAME:CEST
DTSTART:20230326T010000
END:DAYLIGHT
BEGIN:STANDARD
TZOFFSETFROM:+0200
TZOFFSETTO:+0100
TZNAME:CET
DTSTART:20231029T010000
END:STANDARD
END:VTIMEZONE
BEGIN:VEVENT
DTSTART;TZID=Europe/Rome:20221211T180000
DTEND;TZID=Europe/Rome:20221211T200000
DTSTAMP:20260421T142750
CREATED:20220930T053623Z
LAST-MODIFIED:20221126T113959Z
UID:3335-1670781600-1670788800@www.areasismica.it
SUMMARY:HIDDEN PLACES col supporto di Emilia Romagna Music Commission e Mibac
DESCRIPTION:col supporto di\n \nDaniele Roccato – contrabbasso e direzione\nMariasole De Pascali – flauti\nAnais Drago – violino\nSimone Masina – basso elettrico ed elettronica\nRocco Castellani – contrabbasso \nIl progetto nasce intrinsecamente cross-over e cross-platform. \nÈ un avventurarsi in quelle zone nascoste in seno ai più disparati ambiti musicali in cui regna l’impermanenza\, l’immaterialità e il mistero.\nSi tratta di un materiale musicale che assomiglia ad una sostanza chimica altamente instabile e sempre sul punto di deflagrare. \nIn Hidden places avranno diritto di cittadinanza e si intersecheranno elementi musicali etnici\, del jazz\, della musica contemporanea\, del funky\, della tradizione popolare\, delle sperimentazioni e delle avanguardie del ‘900\, della musica elettronica. \nE’ un progetto nato grazie al supporto con Emilia Romagna Music Commission da una idea di Daniele Roccato\, stella luminosissima del firmamento musicale internazionale\, che con Area Sismica collabora da lunga data. \nIn questa nuova avventura si affiancheranno giovani musiciste e musicisti di caratura purissima quali Mariasole De Pascali\, Anais Drago\, Simone Masina e Rocco Castellani. \nContrabbassista solista e compositore\, Daniele Roccato per lui hanno scritto e trascritto Gavin Bryars\, Fabio Cifariello Ciardi\, Julio Estrada\, Ivan Fedele\, Sofia Gubaidulina\, Hans Werner Henze\, Filippo Perocco\, Terry Riley\, Nicola Sani\, Salvatore Sciarrino\, Stefano Scodanibbio. Assieme a Scodanibbio ha fondato Ludus Gravis\, il più importante ensemble di contrabbassi nel campo della nuova musica.\nNel campo della creazione estemporanea e dell’improvvisazione ha suonato con molti artisti di riferimento quali Bruno Chevillon\, Pascal Contet\, Mark Dresser\, Paolo Damiani\, Marc Ducret\, ecc. \nAnais Drago\, classe ’93\, vincitrice del Top jazz 2022 nella sezione nuove proposte\, si è esibita in qualità di leader sui palchi dei più importanti festival jazz d’Italia\, fra cui Umbria Jazz\, Time in Jazz\, Torino Jazz Festival\, Bergamo Jazz Festival\, Casa del Jazz\, JazzMI. Nel corso del 2022 ha intrapreso una collaborazione in duo con Enrico Rava. \nLa flautista Mariasole De Pascali ha recentemente inciso il suo primo album come leader\, prodotto dal Parco della Musica Records e presentato in anteprima alla Casa del Jazz di Roma. Collabora con Paolo Damiani\, Michele Rabbia\, Gianni Lenoci\, Admir Shkurtaj\, Markus Stockhausen\, ecc. \nRocco Federico Castellani\, nato nel 1995\, si è laureato al Conservatorio di Santa Cecilia a Roma con lode. Attualmente allievo di Nicolas Crosse al Conservatoire National Supérieur de Musique et Danse di Parigi\, è membro dei Ludus Gravis e ha suonato in Milano Musica\, Musik Fest Berlin\, Rassegna di Nuova Musica\, etc. Nel 2021 è stato selezionato come accademista al Festival di Lucerna.La versatilità di Simone Masina lo porta a spaziare facilmente tra musica pop (collaborando con Gino Paoli\, Ornella Vanoni\, Lucio Dalla\, Alexia\, Max Gazzè) e jazz. È membro fondatore di Ludus Gravis\, con cui ha registrato per ECM e WERGO. Nel 2015 ha ottenuto un secondo Master in Jazz presso il Conservatorio di Ferrara. \n  \ningresso €15\nArea Sismica è un circolo Arci. L’ingresso è riservato ai soci. E’ possibile tesserarsi online a questo link: https://portale.arci.it/preadesione/areasismica/ \n 
URL:https://www.areasismica.it/event/hidden-places-col-supporto-di-emilia-romagna-music-commission-e-mibac/
ATTACH;FMTTYPE=image/jpeg:https://www.areasismica.it/wp-content/uploads/2022/09/web.jpg
END:VEVENT
END:VCALENDAR