BEGIN:VCALENDAR
VERSION:2.0
PRODID:-//Area Sismica - ECPv6.15.20//NONSGML v1.0//EN
CALSCALE:GREGORIAN
METHOD:PUBLISH
X-WR-CALNAME:Area Sismica
X-ORIGINAL-URL:https://www.areasismica.it
X-WR-CALDESC:Eventi per Area Sismica
REFRESH-INTERVAL;VALUE=DURATION:PT1H
X-Robots-Tag:noindex
X-PUBLISHED-TTL:PT1H
BEGIN:VTIMEZONE
TZID:Europe/Rome
BEGIN:DAYLIGHT
TZOFFSETFROM:+0100
TZOFFSETTO:+0200
TZNAME:CEST
DTSTART:20220327T010000
END:DAYLIGHT
BEGIN:STANDARD
TZOFFSETFROM:+0200
TZOFFSETTO:+0100
TZNAME:CET
DTSTART:20221030T010000
END:STANDARD
BEGIN:DAYLIGHT
TZOFFSETFROM:+0100
TZOFFSETTO:+0200
TZNAME:CEST
DTSTART:20230326T010000
END:DAYLIGHT
BEGIN:STANDARD
TZOFFSETFROM:+0200
TZOFFSETTO:+0100
TZNAME:CET
DTSTART:20231029T010000
END:STANDARD
BEGIN:DAYLIGHT
TZOFFSETFROM:+0100
TZOFFSETTO:+0200
TZNAME:CEST
DTSTART:20240331T010000
END:DAYLIGHT
BEGIN:STANDARD
TZOFFSETFROM:+0200
TZOFFSETTO:+0100
TZNAME:CET
DTSTART:20241027T010000
END:STANDARD
END:VTIMEZONE
BEGIN:VEVENT
DTSTART;TZID=Europe/Rome:20230703T210000
DTEND;TZID=Europe/Rome:20230703T210000
DTSTAMP:20260421T232347
CREATED:20230624T083546Z
LAST-MODIFIED:20231201T090638Z
UID:336891-1688418000-1688418000@www.areasismica.it
SUMMARY:GUERRI & GRILLINI (IT) + inaugurazione Mostra Fotografica New York 1979 di FAUSTO FABBRI
DESCRIPTION:Rassegna Musica Inaudita \nc/o Lupo 340 (mappa) \nore 19.00 \nMostra Fotografica di FAUSTO FABBRI \nNEW YORK 1979 \n“E’ nata a Lupo\, con Ariele\, l’idea di questa mostra con vecchie foto dell’estate a New York nel 1979. Quello era un anno di confne\, la fne degli anni settanta e l’inizio del decennio degli ’80\, e questo confne percorreva il paesaggio di tutta Manhattan\, con le diverse mode\, musiche\, flosofa di vita e le sue droghe. Nel Greenwich Village le musiche country-rock- jazz\, i locali mitici come il CBGB\, nell’aria l’odore della marijuana. Nell’ East village e a Broadway\, l’odore degli hot dog\, locali come Danceteria ( post punk ) e Studio 54 ( disco- dance e edonismo all’eccesso ) e\, ovunque\, i “paraphernalia” negozi con accessori per il consumo e il taglio della cocaina. La colonna sonora di questo paesaggio variato era la musica di strada\, in ogni angolo\, in ogni stile e di altissimo livello. Ogni giorno lo facevo quasi tutto questo percorso\, prima di rientrare a tarda notte nel mio economico albergo per alcolizzati a Times Square\, passando davanti allo Studio 54\, sempre strapieno di gente fuori che pregava per entrare. In uno dei miei primi giorni\, sotto l’arco di Washington Square\, c’era un duo di chitarre con una versione lancinante di “ all along the watchtower “. La chitarra solista era un ragazzo senza mani\, con un tubo cromato fssato al moncherino sinistro e un plettro al destro. Così ho comprato un registratore a cassette da 20 dollari e ho cominciato a registrare la musica che incontravo. Questa mostra\, che si apre con quell’immagine e si chiude con quella di Studio 54\, è un piccolo racconto di quell’estate.\n5 foto sono accompagnate da un QR code che rimanda alla musica registrata allora\, relativa a quella foto.”\nFausto Fabbri \nFausto Fabbri è titolare dalla metà degli anni ottanta di uno studio di fotografia editoriale e pubblicitaria\, con pubblicazioni su libri e riviste a diffusione nazionale. Nel 1990 è cofondatore della rivista di interviste e foto\, a diffusione nazionale\, Una Città\, di cui cura\, fino al 2010\, la parte fotografica pubblicando alcune migliaia di foto e decine di reportage di approfondimento\, su tematiche di società e costume. \nore 21.00 \nLA TESTA NO! \nFrancesco Guerri – violoncello\, effetti\nAndrea Grillini – batteria\, percussioni \nGuerri & Grillini è un eclettico duo di batteria e violoncello\, dal retrogusto prog\, che suona fondamentalmente musica scritta\, originale. Potremmo anche aggiungere armonicamente tonale\, in un rinnovato neoclassicismo che rinnega lo spartito e fa a cazzotti appena può con la melodia.\nFrancesco Guerri\, formazione classica e folgorazione per la libera improvvisazione dopo un seminario con Tristan Honsiger (collaboratore di Cecil Taylor\, Steve Lacy e Derek Bailey) che lo ha condotto a suonare con William Parker e Butch Morris\, ha una concezione della musica che non può prescindere dalla passione e dal coinvolgimento.\nAndrea Grillini è molto di più che un batterista\, è un compositore e un catalizzatore di suoni attorno al quale si creano spesso eccellenti formazioni della scena avanguardista nazionale. \nSotto il nome La testa no!\, Guerri&Grillini hanno registrato Malebolge\, album che nasce da un’intensa e costante attività di ricerca che i due musicisti intraprendono nel corso di alcuni anni. Da un lato il punto di partenza era un materiale scarno ed essenziale\, di natura sostanzialmente violoncellistica. Dall’altro c’è la tentazione di trasformare questo materiale (attraverso un raffinato lavoro di arrangiamento e di ricerca timbrica) in forme complesse e di spessore talvolta orchestrale. L’uso parsimonioso dell’elettronica va nella stessa direzione: aggiungere ulteriori strati a una gamma già molto ampia di soluzioni che i due strumenti offrono nella loro dimensione acustica. Malebolge è stato registrato tra agosto e dicembre 2021 presso il Duna Studio di Russi e qui magistralmente mixato e masterizzato da Andrea Scardovi. \nIl cesenate Francesco Guerri – uno tra i più eclettici violoncellisti in circolazione\, con collaborazioni anche nel mondo teatrale con Teatrino Clandestino\, Teatrino Giullare\, Chiara Guidi-Socìetas – è tra i fondatori del quartetto tellKujira\, prodotto da Area Sismica. \nAndrea Grillini\, emiliano\, nel 2015 ha ricevuto\, assieme al gruppo Fuel Quartet\, il premio ”WeInsist” della MIDJ (musicisti italiani di jazz)\, come miglior gruppo di nuovi talenti. Suona e collabora con musicisti come Stefano de Bonis\, Fabrizio Puglisi\, Edoardo Marraffa\, Pasquale Mirra\, Vincenzo Vasi\, ed è membro della Tower Jazz Composers Orchestra. \n  \nIngresso libero \nprenotazione cena: 345 6638289 \n 
URL:https://www.areasismica.it/event/guerri-grillini-it/
ATTACH;FMTTYPE=image/jpeg:https://www.areasismica.it/wp-content/uploads/2023/06/GG_FFweb.jpg
END:VEVENT
END:VCALENDAR