BEGIN:VCALENDAR
VERSION:2.0
PRODID:-//Area Sismica - ECPv6.15.20//NONSGML v1.0//EN
CALSCALE:GREGORIAN
METHOD:PUBLISH
X-WR-CALNAME:Area Sismica
X-ORIGINAL-URL:https://www.areasismica.it
X-WR-CALDESC:Eventi per Area Sismica
REFRESH-INTERVAL;VALUE=DURATION:PT1H
X-Robots-Tag:noindex
X-PUBLISHED-TTL:PT1H
BEGIN:VTIMEZONE
TZID:Europe/Rome
BEGIN:DAYLIGHT
TZOFFSETFROM:+0100
TZOFFSETTO:+0200
TZNAME:CEST
DTSTART:20150329T010000
END:DAYLIGHT
BEGIN:STANDARD
TZOFFSETFROM:+0200
TZOFFSETTO:+0100
TZNAME:CET
DTSTART:20151025T010000
END:STANDARD
BEGIN:DAYLIGHT
TZOFFSETFROM:+0100
TZOFFSETTO:+0200
TZNAME:CEST
DTSTART:20160327T010000
END:DAYLIGHT
BEGIN:STANDARD
TZOFFSETFROM:+0200
TZOFFSETTO:+0100
TZNAME:CET
DTSTART:20161030T010000
END:STANDARD
BEGIN:DAYLIGHT
TZOFFSETFROM:+0100
TZOFFSETTO:+0200
TZNAME:CEST
DTSTART:20170326T010000
END:DAYLIGHT
BEGIN:STANDARD
TZOFFSETFROM:+0200
TZOFFSETTO:+0100
TZNAME:CET
DTSTART:20171029T010000
END:STANDARD
END:VTIMEZONE
BEGIN:VEVENT
DTSTART;TZID=Europe/Rome:20161120T180000
DTEND;TZID=Europe/Rome:20161120T200000
DTSTAMP:20260421T114213
CREATED:20160916T145648Z
LAST-MODIFIED:20161014T045303Z
UID:2371-1479664800-1479672000@www.areasismica.it
SUMMARY:GOAT (Jap)
DESCRIPTION:Koshiro Hino – chitarra el.\nAkihiko Ando – sax\nTetsushi Nishikawa – batteria\nAtsumi Tagami – basso el. \nAltra band nipponica e altro concerto fuori dagli schemi\, grazie ai Goat\, una formazione di giovani e talentuosi musicisti provenienti da Osaka. \nIl loro sound deriva da un approccio micrometrico\, uno sfasamento temporale che provoca una sorta di trance ritmica. \nPotrebbero ricordare alcune illuminate composizioni del minimalismo statunitense\, ma la loro diversità consiste nella ricerca della perfetta fusione tra suoni smorzati e noise\, spalmati sopra un tappeto melodico\, percepito al contempo come urbano e tribale. \nAnche in questo caso i tentativi di apporre delle etichette appaiono del tutto aleatori\, vista la capacità di elaborare composizioni fortemente personali. \nIn definitiva è un’altra bella (e\, una volta di più\, unica) occasione di ascoltare punti di vista inusuali della scena musicale giapponese. \n  \n 
URL:https://www.areasismica.it/event/goat-jap-data-unica-in-italia/
ATTACH;FMTTYPE=image/jpeg:https://www.areasismica.it/wp-content/uploads/2016/09/GoatOK.jpg
END:VEVENT
END:VCALENDAR