BEGIN:VCALENDAR
VERSION:2.0
PRODID:-//Area Sismica - ECPv6.15.20//NONSGML v1.0//EN
CALSCALE:GREGORIAN
METHOD:PUBLISH
X-WR-CALNAME:Area Sismica
X-ORIGINAL-URL:https://www.areasismica.it
X-WR-CALDESC:Eventi per Area Sismica
REFRESH-INTERVAL;VALUE=DURATION:PT1H
X-Robots-Tag:noindex
X-PUBLISHED-TTL:PT1H
BEGIN:VTIMEZONE
TZID:Europe/Rome
BEGIN:DAYLIGHT
TZOFFSETFROM:+0100
TZOFFSETTO:+0200
TZNAME:CEST
DTSTART:20240331T010000
END:DAYLIGHT
BEGIN:STANDARD
TZOFFSETFROM:+0200
TZOFFSETTO:+0100
TZNAME:CET
DTSTART:20241027T010000
END:STANDARD
BEGIN:DAYLIGHT
TZOFFSETFROM:+0100
TZOFFSETTO:+0200
TZNAME:CEST
DTSTART:20250330T010000
END:DAYLIGHT
BEGIN:STANDARD
TZOFFSETFROM:+0200
TZOFFSETTO:+0100
TZNAME:CET
DTSTART:20251026T010000
END:STANDARD
BEGIN:DAYLIGHT
TZOFFSETFROM:+0100
TZOFFSETTO:+0200
TZNAME:CEST
DTSTART:20260329T010000
END:DAYLIGHT
BEGIN:STANDARD
TZOFFSETFROM:+0200
TZOFFSETTO:+0100
TZNAME:CET
DTSTART:20261025T010000
END:STANDARD
END:VTIMEZONE
BEGIN:VEVENT
DTSTART;TZID=Europe/Rome:20251130T180000
DTEND;TZID=Europe/Rome:20251130T190000
DTSTAMP:20260421T125046
CREATED:20251102T090804Z
LAST-MODIFIED:20251117T115139Z
UID:337525-1764525600-1764529200@www.areasismica.it
SUMMARY:Gabriele Mitelli & Mariam Rezaei
DESCRIPTION:c/o Lupo \nRassegna Musiche Extra-Ordinarie \nGabriele Mitelli & Mariam Rezaei\nG. Mitelli – tromba\, elettronica\nM. Rezaei – giradischi \nMariam Rezaei e Gabriele Mitelli formano un duo eccezionale nella scena musicale sperimentale contemporanea. Uniti dalla passione per l’innovazione sonora e la sperimentazione artistica\, i due musicisti hanno dato vita a un progetto che sfida le convenzioni ed esplora nuove dimensioni espressive. Le loro performance sono un viaggio attraverso paesaggi sonori in continua evoluzione\, dove improvvisazione e composizione si fondono in un’esperienza cosmica. Mariam Rezaei è una figura di spicco nella scena musicale sperimentale\, riconosciuta per la sua abilità nel manipolare suoni e texture attraverso l’uso di giradischi\, elettronica e tecniche di turntablism. La sua formazione classica e il suo interesse per l’avanguardia sonora si fondono in performance intense e ipnotiche. La sua arte sonora è caratterizzata da una profonda attenzione ai dettagli e da una costante ricerca di nuove modalità espressive. Gabriele Mitelli è un talentuoso trombettista e musicista elettronico\, che si è fatto un nome sulla scena internazionale con il suo approccio innovativo alla musica sperimentale. La sua capacità di integrare la tromba con l’elettronica e altri strumenti non convenzionali gli permette di creare paesaggi sonori unici e coinvolgenti. Mitelli è rinomato per la sua versatilità e la sua capacità di muoversi fluidamente tra generi diversi\, mantenendo una forte identità artistica. \nIngresso 15 euro
URL:https://www.areasismica.it/event/gabriele-mitelli-mariam-rezaei/
ATTACH;FMTTYPE=image/avif:https://www.areasismica.it/wp-content/uploads/2025/11/duo-with-mariam.avif
END:VEVENT
END:VCALENDAR