BEGIN:VCALENDAR
VERSION:2.0
PRODID:-//Area Sismica - ECPv6.15.20//NONSGML v1.0//EN
CALSCALE:GREGORIAN
METHOD:PUBLISH
X-WR-CALNAME:Area Sismica
X-ORIGINAL-URL:https://www.areasismica.it
X-WR-CALDESC:Eventi per Area Sismica
REFRESH-INTERVAL;VALUE=DURATION:PT1H
X-Robots-Tag:noindex
X-PUBLISHED-TTL:PT1H
BEGIN:VTIMEZONE
TZID:Europe/Rome
BEGIN:DAYLIGHT
TZOFFSETFROM:+0100
TZOFFSETTO:+0200
TZNAME:CEST
DTSTART:20150329T010000
END:DAYLIGHT
BEGIN:STANDARD
TZOFFSETFROM:+0200
TZOFFSETTO:+0100
TZNAME:CET
DTSTART:20151025T010000
END:STANDARD
BEGIN:DAYLIGHT
TZOFFSETFROM:+0100
TZOFFSETTO:+0200
TZNAME:CEST
DTSTART:20160327T010000
END:DAYLIGHT
BEGIN:STANDARD
TZOFFSETFROM:+0200
TZOFFSETTO:+0100
TZNAME:CET
DTSTART:20161030T010000
END:STANDARD
BEGIN:DAYLIGHT
TZOFFSETFROM:+0100
TZOFFSETTO:+0200
TZNAME:CEST
DTSTART:20170326T010000
END:DAYLIGHT
BEGIN:STANDARD
TZOFFSETFROM:+0200
TZOFFSETTO:+0100
TZNAME:CET
DTSTART:20171029T010000
END:STANDARD
END:VTIMEZONE
BEGIN:VEVENT
DTSTART;VALUE=DATE:20161126
DTEND;VALUE=DATE:20161127
DTSTAMP:20260421T114554
CREATED:20170212T103628Z
LAST-MODIFIED:20170212T103900Z
UID:2427-1480118400-1480204799@www.areasismica.it
SUMMARY:FRANCESCO PRODE | VI FESTIVAL di MUSICA CONTEMPORANEA ITALIANA
DESCRIPTION:Sabato 26 novembre ore 21.00 – Istituto Musicale A. Masini – sala Sangiorgi – C.so Garibaldi 98\, Forlì \nFrancesco Prode \npianoforte \nIl viaggio proposto dall’eccelso pianoforte di Francesco Prode è incentrato su un progetto di composizioni stimolate dai Miroirs di Ravel\, a cui cinque importanti compositori italiani hanno riferito le loro opere.\nIl tema dello specchio si mantiene comune\, in un lavoro che in ogni tappa rivela le specificità del tratto linguistico dei singoli compositori.\nIl programma si conclude con l’unica opera per questo strumento scritta da Luigi Nono\, un capolavoro degli anni 70 e con un altro capolavoro di Franco Evangelisti degli anni 50\, un opera che contiene alcuni elementi di aleatorietà. \nAlessandro Solbiati (1956) La Nuit De Maurice (d’après “Noctuelles”) 2016\nMartino Traversa (1960) Oiseaux Tristes 2016\nGiorgio Colombo Taccani (1961) Océan (d’après “Une barque sur l’ocèan”) 2016\nRiccardo Panfili (1979) Les Mots De La Tribu (d’après “Alborada del gracioso”) 2016\nVittorio Montalti (1984) Verticale (d’après “La vallée des cloches”) 2016\nFranco Evangelisti (1926-1980) Proiezioni Sonore – strutture per piano solo 1955-1956\nLuigi Nono (1924-1990) …sofferte onde serene… per pianoforte e nastro 1976
URL:https://www.areasismica.it/event/francesco-prode-vi-festival-di-musica-contemporanea-italiana/
ATTACH;FMTTYPE=image/jpeg:https://www.areasismica.it/wp-content/uploads/2016/09/FMCI.jpg
END:VEVENT
END:VCALENDAR