BEGIN:VCALENDAR
VERSION:2.0
PRODID:-//Area Sismica - ECPv6.15.20//NONSGML v1.0//EN
CALSCALE:GREGORIAN
METHOD:PUBLISH
X-WR-CALNAME:Area Sismica
X-ORIGINAL-URL:https://www.areasismica.it
X-WR-CALDESC:Eventi per Area Sismica
REFRESH-INTERVAL;VALUE=DURATION:PT1H
X-Robots-Tag:noindex
X-PUBLISHED-TTL:PT1H
BEGIN:VTIMEZONE
TZID:Europe/Rome
BEGIN:DAYLIGHT
TZOFFSETFROM:+0100
TZOFFSETTO:+0200
TZNAME:CEST
DTSTART:20200329T010000
END:DAYLIGHT
BEGIN:STANDARD
TZOFFSETFROM:+0200
TZOFFSETTO:+0100
TZNAME:CET
DTSTART:20201025T010000
END:STANDARD
BEGIN:DAYLIGHT
TZOFFSETFROM:+0100
TZOFFSETTO:+0200
TZNAME:CEST
DTSTART:20210328T010000
END:DAYLIGHT
BEGIN:STANDARD
TZOFFSETFROM:+0200
TZOFFSETTO:+0100
TZNAME:CET
DTSTART:20211031T010000
END:STANDARD
BEGIN:DAYLIGHT
TZOFFSETFROM:+0100
TZOFFSETTO:+0200
TZNAME:CEST
DTSTART:20220327T010000
END:DAYLIGHT
BEGIN:STANDARD
TZOFFSETFROM:+0200
TZOFFSETTO:+0100
TZNAME:CET
DTSTART:20221030T010000
END:STANDARD
END:VTIMEZONE
BEGIN:VEVENT
DTSTART;TZID=Europe/Rome:20210725T213000
DTEND;TZID=Europe/Rome:20210725T230000
DTSTAMP:20260422T131743
CREATED:20210708T092238Z
LAST-MODIFIED:20210722T153148Z
UID:3161-1627248600-1627254000@www.areasismica.it
SUMMARY:FRANCESCO MASSARO & BESTIARIO [c/o Chiostro di Pianetto] in collaborazione con La Campanara e Pro Loco Borgo Pianetto
DESCRIPTION:Osteria La Campanara\, Pro Loco Borgo Pianetto APS e Area Sismica presentano: \nc/o Chiostro di  Pianetto – Via Borgo Pianetto\, Pianetto di Galeata (FC)  – ingresso gratuito fino a esaurimento posti \nRassegna Musiche Extra-Ordinarie \nFRANCESCO MASSARO & BESTIARIO\nÀ vide\nstoria naturale del vuoto \nFrancesco Massaro: clarinetto basso\, live electronics\nMariasole De Pascali: flauto\, ottavino\, flauto in sol\nAdolfo La Volpe: lap steel guitar\, live electronics\nLucio Miele: percussioni preparate\nEgidio Marullo: temporary painting \nGruppo attivo nell’ambito della sperimentazione musicale e multimediale\, un vero e proprio laboratorio di ibridazione. Nelle sue performance nulla (quasi mai) come sembra: acustico ed elettronico\, scritto e improvvisato\, formale e informale\, antico e contemporaneo\, e perfino suono\, immagine e movimento sono in continua mimesi offrendo al pubblico una esperienza sinestetica. \nDurante la serata per Area Sismica proporrà À vide (storia naturale del vuoto)\, lavoro che si ripropone di indagare le relazioni tra infinitamente grande e infinitamente piccolo\, attraverso l’osservazione della microbiologia (Micrographia) e dei grandi ammassi di galassie (Filamento dei Pesci-Balena). Lo spettacolo consta di musica e video – non assoggettati l’una all’altro ma in relazione paritetica – e prevede l’esecuzione di due partiture per improvvisatori “multimediali”\, nascono da una riflessione nata nel periodo di clausura forzata durante il quale tutta l’Umanità è stata costretta a ripensare i concetti di spazio e tempo ma anche la propria relazione coi luoghi\, le stagioni e le azioni. \n  \nAll’evento se ne aggiunge un altro\, la distribuzione di vini veri Gitana Wines ci accompagnerà in un viaggio attraverso l’uva di Marsala.\nTre cantine e 7 referenze.\nQuesta è la loro selezione marsalese: \nMidia_ Manuela Rendina_ 100% Grillo\nBianco Viola_ Aldo Viola_ Grillo\, Catarratto e Grecanico\nEgesta_ Aldo Viola _ Grillo 100%\nKrimiso_ Aldo Viola _ Catarratto 100%\nMoretto_ Aldo Viola _ Nerello Mascalese\, Perricone\, Syrah\nMajara_ Az. Agr. Bertolino _ Frappato 100%\nFuitina_ Az. Agr. Bertolino _ Catarratto 100% \nOltre ai gitani sarà presente presentare i vini la produttrice Manuela Rendina. \n  \n> Posti limitati\n> Prenotazione via email a info@areasismica.it\n> Ingresso gratuito \n  \n 
URL:https://www.areasismica.it/event/francesco-massaro-bestiario-c-o-chiostro-di-pianetto-ingresso-gratuito/
ATTACH;FMTTYPE=image/jpeg:https://www.areasismica.it/wp-content/uploads/2021/07/massaro.jpg
END:VEVENT
END:VCALENDAR