BEGIN:VCALENDAR
VERSION:2.0
PRODID:-//Area Sismica - ECPv6.15.20//NONSGML v1.0//EN
CALSCALE:GREGORIAN
METHOD:PUBLISH
X-WR-CALNAME:Area Sismica
X-ORIGINAL-URL:https://www.areasismica.it
X-WR-CALDESC:Eventi per Area Sismica
REFRESH-INTERVAL;VALUE=DURATION:PT1H
X-Robots-Tag:noindex
X-PUBLISHED-TTL:PT1H
BEGIN:VTIMEZONE
TZID:Europe/Rome
BEGIN:DAYLIGHT
TZOFFSETFROM:+0100
TZOFFSETTO:+0200
TZNAME:CEST
DTSTART:20240331T010000
END:DAYLIGHT
BEGIN:STANDARD
TZOFFSETFROM:+0200
TZOFFSETTO:+0100
TZNAME:CET
DTSTART:20241027T010000
END:STANDARD
BEGIN:DAYLIGHT
TZOFFSETFROM:+0100
TZOFFSETTO:+0200
TZNAME:CEST
DTSTART:20250330T010000
END:DAYLIGHT
BEGIN:STANDARD
TZOFFSETFROM:+0200
TZOFFSETTO:+0100
TZNAME:CET
DTSTART:20251026T010000
END:STANDARD
BEGIN:DAYLIGHT
TZOFFSETFROM:+0100
TZOFFSETTO:+0200
TZNAME:CEST
DTSTART:20260329T010000
END:DAYLIGHT
BEGIN:STANDARD
TZOFFSETFROM:+0200
TZOFFSETTO:+0100
TZNAME:CET
DTSTART:20261025T010000
END:STANDARD
END:VTIMEZONE
BEGIN:VEVENT
DTSTART;TZID=Europe/Rome:20250312T210000
DTEND;TZID=Europe/Rome:20250312T220000
DTSTAMP:20260421T141655
CREATED:20250130T110321Z
LAST-MODIFIED:20250213T102658Z
UID:337360-1741813200-1741816800@www.areasismica.it
SUMMARY:Evento Extra-Ordinario: PIERRE BASTIEN (Fra)
DESCRIPTION:Rassegna Musica Inaudita \nPIERRE BASTIEN\nmeccanium\, pocket trumpet\, video \nTorna all’Area Sismica per un evento d’eccezione Pierre Bastien e il suo Meccanium\, una figura di culto che nel corso degli anni ha messo d’accordo vari mondi musicali e che siamo felicissimi di riproporre a distanza di oltre 30 anni dal suo primo concerto per l’Area Sismica. \nCompositore e polistrumentista nato in Francia ma da tempo di base in Olanda\, Pierre Bastien è un geniale inventore di macchine e “sculture” sonore\, vere e proprie orchestre dadaiste portatili\, realizzate con pezzi del meccano\, ingranaggi\, motori di vecchi giradischi\, ventole\, molle e oggetti di varia natura\, in grado di rievocare il suono di strumenti tradizionali (liuto cinese\, bendir marocchino\, saron giavanese\, koto giapponese\, sansa africano) così come le strutture ritmiche della musica elettronica. \nDefinito da The Guardian «mad musical scientist»\, dagli anni Ottanta a oggi Bastien ha costruito un corpus discografico imponente\, vanta collaborazioni con artisti del calibro di Pascal Comelade\, Robert Wyatt e Pierrick Sorin e uscite per etichette di culto come la Rephlex di Aphex Twin\, la Morphine di Rabih Beaini e la Other People di Nicolas Jaar. \nLe performance dal vivo di Bastien acquistano una dimensione ancora più poetica e artigianale grazie alle frasi di tromba che il compositore esegue sui pattern ritmici innescati dai suoi marchingegni e alle immagini (di questi stessi ingranaggi in azione) proiettate alle sue spalle\, in una sorta di gioco di ombre cinesi che rievoca il cinema delle origini.\nNel nuovo set\, intitolato “Mutes alive”\, Bastien innesta le sue ingegnose trovate meccaniche su trombe e sordine. \n  \nIngresso €10\nRidotto per gli studenti di Istituti Musicali €5 \nArea Sismica è un circolo Arci
URL:https://www.areasismica.it/event/extra-evento-pierre-bastien-fra/
ATTACH;FMTTYPE=image/jpeg:https://www.areasismica.it/wp-content/uploads/2025/01/Pierre-Bastien-1-scaled.jpg
END:VEVENT
END:VCALENDAR