BEGIN:VCALENDAR
VERSION:2.0
PRODID:-//Area Sismica - ECPv6.15.20//NONSGML v1.0//EN
CALSCALE:GREGORIAN
METHOD:PUBLISH
X-WR-CALNAME:Area Sismica
X-ORIGINAL-URL:https://www.areasismica.it
X-WR-CALDESC:Eventi per Area Sismica
REFRESH-INTERVAL;VALUE=DURATION:PT1H
X-Robots-Tag:noindex
X-PUBLISHED-TTL:PT1H
BEGIN:VTIMEZONE
TZID:Europe/Rome
BEGIN:DAYLIGHT
TZOFFSETFROM:+0100
TZOFFSETTO:+0200
TZNAME:CEST
DTSTART:20150329T010000
END:DAYLIGHT
BEGIN:STANDARD
TZOFFSETFROM:+0200
TZOFFSETTO:+0100
TZNAME:CET
DTSTART:20151025T010000
END:STANDARD
BEGIN:DAYLIGHT
TZOFFSETFROM:+0100
TZOFFSETTO:+0200
TZNAME:CEST
DTSTART:20160327T010000
END:DAYLIGHT
BEGIN:STANDARD
TZOFFSETFROM:+0200
TZOFFSETTO:+0100
TZNAME:CET
DTSTART:20161030T010000
END:STANDARD
BEGIN:DAYLIGHT
TZOFFSETFROM:+0100
TZOFFSETTO:+0200
TZNAME:CEST
DTSTART:20170326T010000
END:DAYLIGHT
BEGIN:STANDARD
TZOFFSETFROM:+0200
TZOFFSETTO:+0100
TZNAME:CET
DTSTART:20171029T010000
END:STANDARD
END:VTIMEZONE
BEGIN:VEVENT
DTSTART;VALUE=DATE:20161127
DTEND;VALUE=DATE:20161128
DTSTAMP:20260421T142132
CREATED:20170212T104025Z
LAST-MODIFIED:20170212T104025Z
UID:2428-1480204800-1480291199@www.areasismica.it
SUMMARY:EX NOVO ENSEMBLE | VI FESTIVAL di MUSICA CONTEMPORANEA ITALIANA
DESCRIPTION:Domenica 27 novembre ore 18.00 – Area Sismica \nEx Novo Ensemble \nDaniele Ruggieri\, flauto\,\nDavide Teodoro\, clarinetto\nCarlo Lazari\, violino\nCarlo Teodoro\, violoncello \nUn quartetto di componenti dell’Ex Novo Ensemble\, uno degli ensemble internazionali più importanti dediti alla nuova musica\, ci condurrà per un viaggio di suoni e idee affascinanti; particolare attenzione verrà rivolta agli spazi sonori di Osvaldo Coluccino\, ospite d’onore della serata\, di cui verranno eseguite tre opere\, di cui due in prima esecuzione assoluta. Verranno eseguite opere storiche di Bruno Maderna e Giacinto Scelsi\, un quartetto di Giacomo Manzoni dedicato all’ensemble diretto da Claudio Ambrosini e un’opera recentissima di Renato Miani. \nGiacomo Manzoni (1932) Ex Novo (2013) per flauto\, clarinetto\, violino e violoncello\nOsvaldo Coluccino (1963) Emblema 3 per flauto e violino ( 2009/2010)\nRenato Miani (1965) Fantasia super Veni Sancte Spiritus (2016) per violoncello e clarinetto basso Introitus – Organum I e Recercar – Organum II\nOsvaldo Coluccino Emblema 6 per flauto basso\, clarinetto basso\, violoncello (2012) prima esecuzione assoluta\nBruno Maderna (1920-1973) Widmung (1967) per violino\nGiacinto Scelsi (1905-1988) Ko-Lho (1966) per flauto e clarinetto\nOsvaldo Coluccino Emblema 7 per flauto\, clarinetto\, violino \, violoncello ( 2015) prima esecuzione assoluta
URL:https://www.areasismica.it/event/ex-novo-ensemble-vi-festival-di-musica-contemporanea-italiana/
ATTACH;FMTTYPE=image/jpeg:https://www.areasismica.it/wp-content/uploads/2016/09/FMCI.jpg
END:VEVENT
END:VCALENDAR