BEGIN:VCALENDAR
VERSION:2.0
PRODID:-//Area Sismica - ECPv6.15.20//NONSGML v1.0//EN
CALSCALE:GREGORIAN
METHOD:PUBLISH
X-WR-CALNAME:Area Sismica
X-ORIGINAL-URL:https://www.areasismica.it
X-WR-CALDESC:Eventi per Area Sismica
REFRESH-INTERVAL;VALUE=DURATION:PT1H
X-Robots-Tag:noindex
X-PUBLISHED-TTL:PT1H
BEGIN:VTIMEZONE
TZID:Europe/Rome
BEGIN:DAYLIGHT
TZOFFSETFROM:+0100
TZOFFSETTO:+0200
TZNAME:CEST
DTSTART:20220327T010000
END:DAYLIGHT
BEGIN:STANDARD
TZOFFSETFROM:+0200
TZOFFSETTO:+0100
TZNAME:CET
DTSTART:20221030T010000
END:STANDARD
BEGIN:DAYLIGHT
TZOFFSETFROM:+0100
TZOFFSETTO:+0200
TZNAME:CEST
DTSTART:20230326T010000
END:DAYLIGHT
BEGIN:STANDARD
TZOFFSETFROM:+0200
TZOFFSETTO:+0100
TZNAME:CET
DTSTART:20231029T010000
END:STANDARD
BEGIN:DAYLIGHT
TZOFFSETFROM:+0100
TZOFFSETTO:+0200
TZNAME:CEST
DTSTART:20240331T010000
END:DAYLIGHT
BEGIN:STANDARD
TZOFFSETFROM:+0200
TZOFFSETTO:+0100
TZNAME:CET
DTSTART:20241027T010000
END:STANDARD
END:VTIMEZONE
BEGIN:VEVENT
DTSTART;TZID=Europe/Rome:20230620T200000
DTEND;TZID=Europe/Rome:20230620T200000
DTSTAMP:20260421T215146
CREATED:20230612T085159Z
LAST-MODIFIED:20231201T090458Z
UID:336886-1687291200-1687291200@www.areasismica.it
SUMMARY:ERIC CHENAUX (CN) in collaborazione con MMT Lab e Lampedée APS
DESCRIPTION:Rassegna Musiche Extra-Ordinarie \nc/o Lupo 340  \nPROGETTO IMPRO-LIGETI di Area Sismica\, MMT Creative Lab Milano\, Ass.ne Lapedè Brescia\, con il supporto del Progetto Speciale del Ministero della Cultura \nA Lupo 340 arriva un talento cristallino\, un artista in stato di grazia e dallo stile unico e personale. Il canadese Eric Chenaux negli ultimi dieci anni ha rivoluzionato il mondo e il senso del songwriting di matrice jazz: i suoi dischi affrontano la relazione tra struttura e improvvisazione\, in modi molto particolari e unici\, senza cinismo ma con amore. Perché in fondo quelle di Chenaux sono canzoni d’amore\, che canta con voce dolce e limpida\, mentre la chitarra si piega delicatamente\, diverge e scompone. A dispetto di un’innegabile vena iconoclasta\, la sua musica rimane meravigliosamente calda\, generosa e in ultima istanza accessibile.  \nLa giustapposizione tra crooning morbido e vellutato e le esplorazioni sperimentali della chitarra apre a nozioni inedite di accompagnamento e canto e a forme non convenzionali di interplay timbrico e tonale. Il suo è un suonare la chitarra attorno e contro la voce\, improvvisando “con se stesso” allo scopo di catturare momenti di interdipendenza imprevisti e intimi. Un gioioso abbandono allo spazio improvviso e improvvisativo in cui gioco e leggerezza vengono presi molto sul serio. \nDa qualche anno Eric Chenaux vive in Francia\, ma è stato un caposaldo della musica DIY e sperimentale a Toronto negli anni ‘90 e 2000\, leggenda del post-punk locale con Phleg Camp (assolutamente da recuperare se amate gli Shellac) e Lifelikeweeds. Dal 2006 incide per Constellation Records: una discografia geniale che spazia dal folk più avventuroso\, sontuoso\, languoroso e decostruito\, al jazz\, fino a ballate di influenza pop. Eric compone anche colonne sonore e musica per la danza\, e collabora regolarmente con altri artisti: tra di essi Marla Hlady\, con la quale ha realizzato numerose installazioni sonore\, e il regista Eric Cazdyn\, con cui ha realizzato il film Play the Cube nel 2014. Ha fatto inoltre parte della band del musicista canadese Sandro Perri partecipando a vari suoi album\, e ha suonato\, tra gli altri\, con Radwan Ghazi Moumneh (Jerusalem in My Heart)\, Martin Armold\, Pauline Oliveros\, John Oswald\, Michael Snow\, Han Bennink\, Michael Moore. \nSay Laura (2021) è il suo ultimo disco solista\, acclamato dalla critica (secondo miglior disco del 2022 per la rivista Blow Up). Prima c’era stato Slowly Paradise (2018)\, altro capolavoro\, che gli era valso (tra le altre cose) la copertina di The Wire. \n  \nCucina aperta nelle sere di concerto \ninfo e prenotazioni: 345 6638289 – Via XXVII TRAVERSA – Arenile\, 340\, 48015 Cervia – loc. Milano Marittima (RA) \n 
URL:https://www.areasismica.it/event/eric-chenaux-cn-in-collaborazione-con-mmt-lab-e-lampedee-aps/
ATTACH;FMTTYPE=image/jpeg:https://www.areasismica.it/wp-content/uploads/2023/06/web.jpg
END:VEVENT
END:VCALENDAR