BEGIN:VCALENDAR
VERSION:2.0
PRODID:-//Area Sismica - ECPv6.15.20//NONSGML v1.0//EN
CALSCALE:GREGORIAN
METHOD:PUBLISH
X-WR-CALNAME:Area Sismica
X-ORIGINAL-URL:https://www.areasismica.it
X-WR-CALDESC:Eventi per Area Sismica
REFRESH-INTERVAL;VALUE=DURATION:PT1H
X-Robots-Tag:noindex
X-PUBLISHED-TTL:PT1H
BEGIN:VTIMEZONE
TZID:Europe/Rome
BEGIN:DAYLIGHT
TZOFFSETFROM:+0100
TZOFFSETTO:+0200
TZNAME:CEST
DTSTART:20170326T010000
END:DAYLIGHT
BEGIN:STANDARD
TZOFFSETFROM:+0200
TZOFFSETTO:+0100
TZNAME:CET
DTSTART:20171029T010000
END:STANDARD
BEGIN:DAYLIGHT
TZOFFSETFROM:+0100
TZOFFSETTO:+0200
TZNAME:CEST
DTSTART:20180325T010000
END:DAYLIGHT
BEGIN:STANDARD
TZOFFSETFROM:+0200
TZOFFSETTO:+0100
TZNAME:CET
DTSTART:20181028T010000
END:STANDARD
BEGIN:DAYLIGHT
TZOFFSETFROM:+0100
TZOFFSETTO:+0200
TZNAME:CEST
DTSTART:20190331T010000
END:DAYLIGHT
BEGIN:STANDARD
TZOFFSETFROM:+0200
TZOFFSETTO:+0100
TZNAME:CET
DTSTART:20191027T010000
END:STANDARD
END:VTIMEZONE
BEGIN:VEVENT
DTSTART;TZID=Europe/Rome:20180311T180000
DTEND;TZID=Europe/Rome:20180311T200000
DTSTAMP:20260421T114518
CREATED:20180118T153401Z
LAST-MODIFIED:20180324T171005Z
UID:2688-1520791200-1520798400@www.areasismica.it
SUMMARY:Concerto al buio | MATS GUSTAFSSON (Swe) | in collaborazione con UICI
DESCRIPTION:Rassegna Musica Extra-Ordinaria \n>>> Concerto al buio <<< \nin collaborazione con l’Unione Italiana Ciechi e Ipovedenti\, sezione di Forlì-Cesena \nMATS GUSTAFSSON (Swe)\nsassofoni \nMetafora vivente dell’eclettismo musicale\, Mats Gustafsson è considerato in tutti gli angoli del pianeta come uno dei musicisti fondamentali del nostro tempo.\nGustafsson non si discute e non finisce mai di sorprendere\, soprattutto per l’agilità con cui si muove tra poetiche estremamente diverse tra loro: dal noise ed energy al freejazz più minimale\, fino a sconfinare in progetti ben più fruibili come la Fire! Orchestra.\nE’ fondatore anche dei The Thing\, eletti da Encuesta tra le 5 migliori live band.\nNon meno importanti sono le sue collaborazioni\, che lo vedono o lo hanno visto a fianco di musicisti come Joe McPhee\, Otomo Yoshihide\, Thurston Moore\, Jim O’Rourke\, Merzbow\, Peter Brötzmann e tantissimi altri.\nHa una voce ai vari sax (li suona tutti!) che può essere potentissima\, cosa che gli ha donato una riconoscibilità universale\, ma anche meravigliosamente delicata.\nIl suo solo non sfugge a queste sue caratteristiche uniche\, una sorta di montagna russa sonora\, che\, in assenza di paracaduti\, ci porterà dall’astrattismo più sognante a esplosioni adrenaliniche\, fino a toccare vette di lirismo riservate a leggende come Archie Shepp o Albert Ayler. \n> posti limitati\, prenotazione info@areasismica.it\n> a concerto iniziato non sarà possibile entrare\, pur se prenotati.\ningresso €15\ningresso libero per ipo e non vedenti\nArea Sismica è un circolo Arci\nparte del presso del biglietto sarà devoluto all’UICI Forlì-Cesena
URL:https://www.areasismica.it/event/concerto-al-buio-mats-gustafsson-swe-in-collaborazione-con-uici/
ATTACH;FMTTYPE=image/jpeg:https://www.areasismica.it/wp-content/uploads/2018/01/Mats.jpg
END:VEVENT
END:VCALENDAR