BEGIN:VCALENDAR
VERSION:2.0
PRODID:-//Area Sismica - ECPv6.15.20//NONSGML v1.0//EN
CALSCALE:GREGORIAN
METHOD:PUBLISH
X-WR-CALNAME:Area Sismica
X-ORIGINAL-URL:https://www.areasismica.it
X-WR-CALDESC:Eventi per Area Sismica
REFRESH-INTERVAL;VALUE=DURATION:PT1H
X-Robots-Tag:noindex
X-PUBLISHED-TTL:PT1H
BEGIN:VTIMEZONE
TZID:Europe/Rome
BEGIN:DAYLIGHT
TZOFFSETFROM:+0100
TZOFFSETTO:+0200
TZNAME:CEST
DTSTART:20220327T010000
END:DAYLIGHT
BEGIN:STANDARD
TZOFFSETFROM:+0200
TZOFFSETTO:+0100
TZNAME:CET
DTSTART:20221030T010000
END:STANDARD
BEGIN:DAYLIGHT
TZOFFSETFROM:+0100
TZOFFSETTO:+0200
TZNAME:CEST
DTSTART:20230326T010000
END:DAYLIGHT
BEGIN:STANDARD
TZOFFSETFROM:+0200
TZOFFSETTO:+0100
TZNAME:CET
DTSTART:20231029T010000
END:STANDARD
BEGIN:DAYLIGHT
TZOFFSETFROM:+0100
TZOFFSETTO:+0200
TZNAME:CEST
DTSTART:20240331T010000
END:DAYLIGHT
BEGIN:STANDARD
TZOFFSETFROM:+0200
TZOFFSETTO:+0100
TZNAME:CET
DTSTART:20241027T010000
END:STANDARD
END:VTIMEZONE
BEGIN:VEVENT
DTSTART;TZID=Europe/Rome:20231217T180000
DTEND;TZID=Europe/Rome:20231217T200000
DTSTAMP:20260422T205829
CREATED:20231010T162354Z
LAST-MODIFIED:20231209T110423Z
UID:336973-1702836000-1702843200@www.areasismica.it
SUMMARY:Concerto al buio ENRICO MALATESTA in collaborazione con U.I.C.I. Forlì Cesena
DESCRIPTION:Rassegna Musica Inaudita \n\nin collaborazione con UNIONE ITALIANA CIECHI e IPOVEDENTI di Forlì Cesena \nTorna ad Area Sismica uno degli eventi più suggestivi ideati negli ultimi anni\, un concerto svolto totalmente al buio\, per vivere l’emozione della musica di un grande artista quale il percussionista Enrico Malatesta senza le distrazioni che l’occhio umano può suscitare. Per l’occasione\, i collaboratori dell’Unione Italiana Ciechi e Ipovedenti della sezione di Forlì-Cesena si occuperanno\, tra le tante cose\, di guidare il pubblico all’interno della sala concerti totalmente al buio. Posti limitati – prenotazioni: info@areasismica.it \nEnrico Malatesta (Cesena\, 1985) Percussionista e ricercatore indipendente attivo in ambiti sperimentali posti tra musica\, performance e indagine territoriale. \nLa sua pratica esplora la relazione tra suono\, spazio e movimento e la vitalità dei materiali con particolare attenzione alle superfici\, alle modalità di ascolto e alla definizione di informazioni multiple attraverso un approccio ecologico e sostenibile allo strumento percussivo.\nLa sua attività di ricerca è volta ad estendere le possibilità soniche e multimateriche degli strumenti a percussione tramite tecniche gestuali semplici\, in grado di realizzare complessi spessori poliritmici ed informazioni multiple che intercorrono tra esecutore\, spazio e strumento. \nOltre ai progetti personali\, è attivo anche come interprete di repertorio solista del ‘900 comprendente partiture grafiche e/o di notazione non tradizionale di compositori quali John Cage\, Morton Feldman\, Karlheinz Stockhausen\, Earle Brown\, con particolare riferimento ed omaggio al lavoro di Max Neuhaus. Lavora regolarmente in duo con i percussionisti Christian Wolfarth e Seijiro Murayama\, con i musicisti/sound artist Giuseppe Ielasi\, Renato Rinaldi\, Luciano Maggiore\, Riccardo Baruzzi\, con il trio elettroacustico ~ Tilde (con Attila Faravelli e Nicola Ratti) ed è membro fondatore di Glück\, ensemble di percussioni composto da Burkhard Beins\, Enrico Malatesta\, Michael Vorfeld\, Christian Wolfarth e Ingar Zach. \nHa pubblicato con le etichette discografiche Presto!?Records\, Second Sleep\, Senufo Editions\, Entr’Acte\, Alku\, Balloon and Needle\, Aural Tools; ha preso parte a programmi di residenza artistica per sviluppare progetti individuali e collaborazioni in strutture internazionali quali: Qo2\, ‘workspace for expermiental music and sound art’  a Bruxelles\, Hotel Pupik artist in residence Schrattenberg (Austria)\, A.I.R. KREMS Krems an der Donau (Austria)\, F.D.V Fabbrica del Vapore/Careof Milano (Italia)\, La Chambre Blanche Ville de Quebéc (Canada). \nTra il 2007 e il 2013 ha lavorato come musicista di scena per Teatro Valdoca e Mariangela Gualtieri. Collabora regolarmente con Riccardo Baruzzi nei progetti installativo/performativi Studio Visit e Mini Strutture Sparse” Interessato alla didattica\, ha sviluppato ‘Sull’Istmo’ laboratorio teorico/pratico sul dettaglio sonoro comprendente anche una sezione dedicata all’infanzia. Organizza eventi\, concerti e seminari volti a migliorare la circuitazione della musica contemporanea e tradizionale. \nPresenta il proprio lavoro in Italia\, Europa\, USA\, Canada\, Russia\, Brasile\, Giappone\, Corea del Sud\, partecipando a importanti festival di musica contemporanea e arti performative tra cui si ricordano\, Pirelli HangarBicocca a Milano\, Berghain a Berlino\, MAM – Rio de Janeiro\, Bourse de Commerce a Parigi\, Blank Forms a New York. \nIn occasione del concerto al buio\, presso Area Sismica\, Malatesta presenta un concerto per percussioni\, frammenti cadenti e campane. \n  \nposti limitati – prenotazioni: info@areasismica.it \nIngresso €15\nArea Sismica è un circolo Arci. L’ingresso è riservato ai soci.\nE’ possibile tesserarsi online a questo link: https://portale.arci.it/preadesione/areasismica/
URL:https://www.areasismica.it/event/concerto-al-buio-enrico-malatesta-in-collaborazione-con-u-i-c-i-forli-cesena/
ATTACH;FMTTYPE=image/jpeg:https://www.areasismica.it/wp-content/uploads/2023/10/MalaWeb.jpg
END:VEVENT
END:VCALENDAR