BEGIN:VCALENDAR
VERSION:2.0
PRODID:-//Area Sismica - ECPv6.15.20//NONSGML v1.0//EN
CALSCALE:GREGORIAN
METHOD:PUBLISH
X-WR-CALNAME:Area Sismica
X-ORIGINAL-URL:https://www.areasismica.it
X-WR-CALDESC:Eventi per Area Sismica
REFRESH-INTERVAL;VALUE=DURATION:PT1H
X-Robots-Tag:noindex
X-PUBLISHED-TTL:PT1H
BEGIN:VTIMEZONE
TZID:Europe/Rome
BEGIN:DAYLIGHT
TZOFFSETFROM:+0100
TZOFFSETTO:+0200
TZNAME:CEST
DTSTART:20240331T010000
END:DAYLIGHT
BEGIN:STANDARD
TZOFFSETFROM:+0200
TZOFFSETTO:+0100
TZNAME:CET
DTSTART:20241027T010000
END:STANDARD
BEGIN:DAYLIGHT
TZOFFSETFROM:+0100
TZOFFSETTO:+0200
TZNAME:CEST
DTSTART:20250330T010000
END:DAYLIGHT
BEGIN:STANDARD
TZOFFSETFROM:+0200
TZOFFSETTO:+0100
TZNAME:CET
DTSTART:20251026T010000
END:STANDARD
BEGIN:DAYLIGHT
TZOFFSETFROM:+0100
TZOFFSETTO:+0200
TZNAME:CEST
DTSTART:20260329T010000
END:DAYLIGHT
BEGIN:STANDARD
TZOFFSETFROM:+0200
TZOFFSETTO:+0100
TZNAME:CET
DTSTART:20261025T010000
END:STANDARD
END:VTIMEZONE
BEGIN:VEVENT
DTSTART;TZID=Europe/Rome:20250413T173000
DTEND;TZID=Europe/Rome:20250413T193000
DTSTAMP:20260421T140912
CREATED:20250330T070542Z
LAST-MODIFIED:20250404T143547Z
UID:337388-1744565400-1744572600@www.areasismica.it
SUMMARY:BEN LAMAR GAY ENSEMBLE c/o Lupo (nuova sede)
DESCRIPTION:concerto @ Lupo | Viale Romagna 323\, Lido di Savio (RA) \nBen LaMar Gay: cornetta\, synth e voce\nEdinho Gerber: chitarra\nMatt Davis: sousaphone e voce\nMauricio Takara: batteria \nCantante\, polistrumentista (tromba\, cornetta e synth)\, produttore\, arrangiatore\, compositore\, narratore e poeta\, Ben LaMar Gay è un vulcano inesauribile di idee e visioni musicali. Le sue composizioni\, audaci e imprevedibili\, prendono vita nel fermento artistico del South Side di Chicago\, luogo che si conferma\, ancora una volta\, straordinario incubatore di talenti fuori dagli schemi. \nPur avendo radici profonde nella prestigiosa AACM (Association for the Advancement of Creative Musicians)\, fondata nel 1965 da Muhal Richard Abrams\, Ben LaMar Gay possiede una visione musicale unica e personale. La sua musica è il risultato di una continua ibridazione stilistica\, influenzata dalle numerose esperienze artistiche e umane che ne segnano il percorso. Jazz\, improvvisazione radicale\, elettronica sperimentale\, hip-hop e canzoni surreali si fondono liberamente\, creando un linguaggio aperto a infinite possibilità espressive. \nNei suoi concerti\, LaMar Gay riesce a creare atmosfere che spaziano dal lirismo più delicato alla potenza espressiva più esplosiva\, in un equilibrio costante tra scrittura e improvvisazione. Il dialogo tra strumenti acustici\, elettronici e voce genera narrazioni sonore visionarie che richiamano\, tra le altre suggestioni\, le sperimentazioni del tropicalismo brasiliano. \nSul palco insieme a lui\, tre musicisti straordinari come Edinho Gerber alla chitarra\, Matt Davis al sousaphone e voce\, e Mauricio Takara alla batteria: \nEdinho Gerber è un chitarrista noto per la sua capacità di fondere le tradizioni musicali brasiliane con influenze jazz e contemporanee. Cresciuto tra il Brasile e gli Stati Uniti\, ha sviluppato uno stile unico che riflette la sua eredità culturale mista. Specializzato nel choro\, il primo genere di musica popolare brasiliana emerso negli anni 1870 e precursore della samba e della bossa nova\, Edinho ha collaborato con numerosi artisti internazionali\, contribuendo a diffondere la ricchezza della musica brasiliana nel mondo. ​ \nMatt Davis è un musicista versatile noto per la sua padronanza del sousaphone e per le sue doti vocali. Ha collaborato con diverse formazioni musicali\, ma è con Ben Lamar Gay che è esplosa la sua personalità artistica\, spaziando dal jazz tradizionale a progetti più sperimentali. La sua capacità di adattarsi a vari generi e stili lo ha reso un componente prezioso in questo ensemble.​ \nMauricio Takara\, amico di lunga data di Area Sismica\, membro della Sao Paulo Underground e della Exploding Star Orchestra di Rob Mazurek\, è un batterista e percussionista brasiliano rinomato per la sua abilità nell’integrare ritmi tradizionali brasiliani con sonorità moderne ed elettroniche. Membro di diverse band sperimentali\, ha sviluppato un linguaggio musicale innovativo che combina improvvisazione e strutture ritmiche complesse. La sua collaborazione con Ben LaMar Gay rappresenta un incontro tra due menti creative\, entrambe impegnate nell’esplorazione di nuove frontiere sonore.​ \nIngresso libero \nprenotazione pranzo / cena 345 6638289 \n>>> in caso di maltempo il concerto si svolgerà nello spazio indoor della nuova sede \n 
URL:https://www.areasismica.it/event/ben-lamar-gay-ensemble-c-o-lupo-nuova-sede/
ATTACH;FMTTYPE=image/jpeg:https://www.areasismica.it/wp-content/uploads/2025/03/web.jpg
END:VEVENT
END:VCALENDAR