BEGIN:VCALENDAR
VERSION:2.0
PRODID:-//Area Sismica - ECPv6.15.20//NONSGML v1.0//EN
CALSCALE:GREGORIAN
METHOD:PUBLISH
X-WR-CALNAME:Area Sismica
X-ORIGINAL-URL:https://www.areasismica.it
X-WR-CALDESC:Eventi per Area Sismica
REFRESH-INTERVAL;VALUE=DURATION:PT1H
X-Robots-Tag:noindex
X-PUBLISHED-TTL:PT1H
BEGIN:VTIMEZONE
TZID:Europe/Rome
BEGIN:DAYLIGHT
TZOFFSETFROM:+0100
TZOFFSETTO:+0200
TZNAME:CEST
DTSTART:20160327T010000
END:DAYLIGHT
BEGIN:STANDARD
TZOFFSETFROM:+0200
TZOFFSETTO:+0100
TZNAME:CET
DTSTART:20161030T010000
END:STANDARD
BEGIN:DAYLIGHT
TZOFFSETFROM:+0100
TZOFFSETTO:+0200
TZNAME:CEST
DTSTART:20170326T010000
END:DAYLIGHT
BEGIN:STANDARD
TZOFFSETFROM:+0200
TZOFFSETTO:+0100
TZNAME:CET
DTSTART:20171029T010000
END:STANDARD
BEGIN:DAYLIGHT
TZOFFSETFROM:+0100
TZOFFSETTO:+0200
TZNAME:CEST
DTSTART:20180325T010000
END:DAYLIGHT
BEGIN:STANDARD
TZOFFSETFROM:+0200
TZOFFSETTO:+0100
TZNAME:CET
DTSTART:20181028T010000
END:STANDARD
END:VTIMEZONE
BEGIN:VEVENT
DTSTART;TZID=Europe/Rome:20170507T180000
DTEND;TZID=Europe/Rome:20170507T200000
DTSTAMP:20260421T114030
CREATED:20170218T093728Z
LAST-MODIFIED:20170425T161152Z
UID:2451-1494180000-1494187200@www.areasismica.it
SUMMARY:ARASHI (Jap - Nor - Swe)
DESCRIPTION:Rassegna Musiche Extra-Ordinarie \nAkira Sakata: sax contralto\, clarinetto\, voce\nJohan Berthling: contrabbasso\nPaal Nilssen-Love: batteria \nArashi: tempesta.\nPotrebbe bastare la traduzione letterale\, ma non renderebbe giustizia a questo trio che non solo mostra l’originalità e la potenza del jazz attuale\, ma è una meravigliosa dimostrazione di come la musica tradizionale giapponese possa fondersi con stilemi tipicamente occidentali\, amplificando l’impatto emozionale della sua energia. \nL’idea del leggendario Akira Sakata\, caldissimo sassofonista a dispetto dello stereotipo affibbiato ai giapponesi\, era proprio quella di vivere gli effetti della collisione\, dell’urto di due mondi musicali così lontani non solo geograficamente parlando. \nE ha pensato fosse fondamentale una sezione ritmica diabolica\, scegliendo il massimo possibile come Paal Nilssen-Love\, batterista sovrumano e ipercinetico\, capace di tenere 250 (duecentocinquanta) concerti all’anno nei 5 continenti e di incidere oltre 300 (trecento) CD\, e Johan Berthling\, bassista illuminato e illuminante\, divenuto popolare con il trio Fire! e ancor più con la Fire! Orchestra. \nSarà una frase di rito\, ma anche la 27ma stagione di Area Sismica chiuderà col botto. \n  \nFoto Micke Keysendal \n  \ningresso € 15\narea sismica è un circolo arci (tesseramento a tariffa ridotta dal 01 aprile) \n  \n 
URL:https://www.areasismica.it/event/arashi-jap-nor-swe/
ATTACH;FMTTYPE=image/jpeg:https://www.areasismica.it/wp-content/uploads/2017/02/Arashi.jpg
END:VEVENT
END:VCALENDAR