BEGIN:VCALENDAR
VERSION:2.0
PRODID:-//Area Sismica - ECPv6.15.20//NONSGML v1.0//EN
CALSCALE:GREGORIAN
METHOD:PUBLISH
X-WR-CALNAME:Area Sismica
X-ORIGINAL-URL:https://www.areasismica.it
X-WR-CALDESC:Eventi per Area Sismica
REFRESH-INTERVAL;VALUE=DURATION:PT1H
X-Robots-Tag:noindex
X-PUBLISHED-TTL:PT1H
BEGIN:VTIMEZONE
TZID:Europe/Rome
BEGIN:DAYLIGHT
TZOFFSETFROM:+0100
TZOFFSETTO:+0200
TZNAME:CEST
DTSTART:20210328T010000
END:DAYLIGHT
BEGIN:STANDARD
TZOFFSETFROM:+0200
TZOFFSETTO:+0100
TZNAME:CET
DTSTART:20211031T010000
END:STANDARD
BEGIN:DAYLIGHT
TZOFFSETFROM:+0100
TZOFFSETTO:+0200
TZNAME:CEST
DTSTART:20220327T010000
END:DAYLIGHT
BEGIN:STANDARD
TZOFFSETFROM:+0200
TZOFFSETTO:+0100
TZNAME:CET
DTSTART:20221030T010000
END:STANDARD
BEGIN:DAYLIGHT
TZOFFSETFROM:+0100
TZOFFSETTO:+0200
TZNAME:CEST
DTSTART:20230326T010000
END:DAYLIGHT
BEGIN:STANDARD
TZOFFSETFROM:+0200
TZOFFSETTO:+0100
TZNAME:CET
DTSTART:20231029T010000
END:STANDARD
END:VTIMEZONE
BEGIN:VEVENT
DTSTART;TZID=Europe/Rome:20221113T180000
DTEND;TZID=Europe/Rome:20221113T200000
DTSTAMP:20260419T230631
CREATED:20220930T051144Z
LAST-MODIFIED:20221122T204529Z
UID:3326-1668362400-1668369600@www.areasismica.it
SUMMARY:ANTHROPIC NEGLECT (PT - BR) - data unica in Italia
DESCRIPTION:Rassegna Musiche Extra – Ordinarie \ndata unica in Italia  \nJosé Lencastre: sax\nJorge Nuno: chitarra el\nFelipe Zenícola: basso el\nJoão Valinho: batteria \nAnthropic Neglect è un quartetto formato nel 2019 da Jorge Nuno alla chitarra elettrica\, João Valinho alla batteria\, José Lencastre ai sassofoni e Felipe Zenicola al basso elettrico. Il loro primo disco è stato pubblicato nel 2020 dall’etichetta portoghese Cleanfeed e presenta i 4 musicisti che creano un flusso sonoro scuro denso e bellissimo\, mescolando psichedelia\, jazz e potenti droni\, evocando diverse entità sonore in questo paziente corso\, o come Bill Meyers di Dusted Magazine ha scritto\, “la musica del quartetto va alla deriva con uno scopo e cova sotto la cenere senza prendere fuoco\, sostenendo un’atmosfera oscura lasciando intravedere le incognite nei suoi angoli nascosti”. \nJorge Nuno è l’anima dietro i Signs of the Silhouette\, una delle band Avant Garde rock / Noise portoghesi più riconosciute a livello internazionale. Artista curato dalla francese Babalam Records/Bocian Records/Clean Feed/Phonogram Unit\, ha già portato il suo noise elettrico in più di mezzo pianeta\, suonando con alcuni dei nomi più importanti della musica attuale. Jorge è anche il co-fondatore dell’etichetta Phonogram Unit. \nJoão Valinho\, musicista e artista visivo originario della periferia di Sintra. Nel 2017\, dopo la conclusione di un post-laurea alla Scuola di Belle Arti\, inizia la sua attività musicale con un vivo interesse per le sue pratiche contemporanee e sperimentali. Assolutamente attivo nella scena musicale on fire di Lisbona\, dal free jazz alla musica concreta\, nonché in approcci interdisciplinari attraverso la danza e il teatro. Recentemente più attivo nei seguenti progetti: MOVE (con Felipe Zenícola\, Yedo Gibson)\, Rodrigo Amado Refraction Quartet\, Rodrigo Brandão\, FASHION ETERNAL\, Anthropic Neglect\, Spectrum Awareness\, No Nation Trio e Voltaic Trio. \nJosé Lencastre è un improvvisatore creativo\, compositore e sassofonista di Lisbona ed è noto per la sua versatilità nel suonare diversi generi musicali e fa parte della vivace scena improvvisata portoghese dal 2005 circa\, condividendo il palco e registrando con artisti internazionali provenienti da tutto il mondo. Tra il 2012 e il 2016 ha vissuto in Brasile\, dove ha sviluppato il suo interesse per la ricca cultura musicale ritmica\, melodica e armonica di Choro\, Frevo\, Ciranda\, ecc. Tornato a Lisbona\, insieme a Rodrigo Pinheiro\, Hernâni Faustino e João Lencastre\, ha formato Nau Quartet. Il gruppo ha pubblicato finora quattro dischi che sono stati acclamati sia in Portogallo che all’estero. il loro “Live in Moscow” è uscito su Clean Feed. E’ co-fondatore dell’etichetta Phonogram Unit. \nFelipe Zenicola è un bassista\, produttore e sound designer nato a Rio de Janeiro nel 1981. Negli ultimi 17 anni ha suonato e prodotto in particolare nella scena musicale improvvisata. Nel corso degli anni in questa esperienza arricchente\, Zenicola ha collaborato con artisti straordinari provenienti da diversi pianeti sonori e parti del globo\, come Zbigniew Karkowski\, Yoshihide Otomo\, Negro Leo\, Paal Nilssen-Love\, Julie Kjær\, Tetuzi Akiyama\, Frode Gjerstad\, Arto Lindsay\, Cadu Tenório\, Ava Rocha\, Jards Macalé e Bill Orcutt. E’ membro dei Chinese Cookie Poets\, conosciuto anche in Europa per i tour svolti e per aver inciso 2 CD. \nIngresso €15\nArea Sismica è un circolo Arci. L’ingresso è riservato ai soci.\nE’ possibile tesserarsi online a questo link: https://portale.arci.it/preadesione/areasismica/ \n 
URL:https://www.areasismica.it/event/anthropic-neglect-pt-br/
ATTACH;FMTTYPE=image/jpeg:https://www.areasismica.it/wp-content/uploads/2022/09/Anthropic_web.jpg
END:VEVENT
END:VCALENDAR