BEGIN:VCALENDAR
VERSION:2.0
PRODID:-//Area Sismica - ECPv6.15.20//NONSGML v1.0//EN
CALSCALE:GREGORIAN
METHOD:PUBLISH
X-WR-CALNAME:Area Sismica
X-ORIGINAL-URL:https://www.areasismica.it
X-WR-CALDESC:Eventi per Area Sismica
REFRESH-INTERVAL;VALUE=DURATION:PT1H
X-Robots-Tag:noindex
X-PUBLISHED-TTL:PT1H
BEGIN:VTIMEZONE
TZID:Europe/Rome
BEGIN:DAYLIGHT
TZOFFSETFROM:+0100
TZOFFSETTO:+0200
TZNAME:CEST
DTSTART:20200329T010000
END:DAYLIGHT
BEGIN:STANDARD
TZOFFSETFROM:+0200
TZOFFSETTO:+0100
TZNAME:CET
DTSTART:20201025T010000
END:STANDARD
BEGIN:DAYLIGHT
TZOFFSETFROM:+0100
TZOFFSETTO:+0200
TZNAME:CEST
DTSTART:20210328T010000
END:DAYLIGHT
BEGIN:STANDARD
TZOFFSETFROM:+0200
TZOFFSETTO:+0100
TZNAME:CET
DTSTART:20211031T010000
END:STANDARD
BEGIN:DAYLIGHT
TZOFFSETFROM:+0100
TZOFFSETTO:+0200
TZNAME:CEST
DTSTART:20220327T010000
END:DAYLIGHT
BEGIN:STANDARD
TZOFFSETFROM:+0200
TZOFFSETTO:+0100
TZNAME:CET
DTSTART:20221030T010000
END:STANDARD
END:VTIMEZONE
BEGIN:VEVENT
DTSTART;TZID=Europe/Rome:20210717T213000
DTEND;TZID=Europe/Rome:20210717T230000
DTSTAMP:20260420T224120
CREATED:20210708T090241Z
LAST-MODIFIED:20210709T174200Z
UID:3158-1626557400-1626562800@www.areasismica.it
SUMMARY:ANIMA SOUND in collaborazione con Sedicicorto con SIMONE PAPPALARDO
DESCRIPTION:Area Sismica e Sedicicorto presentano \nANIMA SOUND \nproiezione di cortometraggi di animazione e concerto di \nSIMONE PAPPALARDO \nCompositore\, performer e artista attivo nel campo dell’improvvisazione\, della nuova liuteria\, della sound art e della composizione elettroacustica. \nSuoi lavori sono stati presentati in diversi festival internazionali\, fra cui: Philharmonie Luxembourg\, Huddersfield Contemporary Music Festival\, Musicacoustica (Pechino)\, Museo MACRO di Roma\, Buenos Aires Globe Theater\, Real accademia de Espana\, Museo MAMBO di Bologna\, Les Amplitudes (La Chaux-de-Fonds)\, Ars Electronica di Linz\, etc.\nNel 2021 è stato artista in residence presso il Mattatoio-pallazzo delle esposizioni di Roma\, nel 2017 è stato artista in residence presso il Goethe-Institut di Berlino\, nel 2016 ha vinto il premio Media Art Festival award al MAXXI di Roma\, nel 2008 ha vinto una menzione speciale al premio nazionale delle arti .\nInsegna musica elettronica e informatica musicale presso il conservatorio di Perugia e Sound Design alla Rufa (Rome University of Fine Arts) e al Saint Luis Music College.\nL’intervento di Simone Pappalardo per Area Sismica si sviluppa in tre momenti di improvvisazione che si intervalleranno alla proiezione dei video.\nOgni intervento sonoro si dispiega esplorando le possibilità timbriche e formali di strumenti di liuteria di invenzione e di macchine sonore controllate da algoritmi. \n  \nIngresso € 5\n> Area Sismica è un circolo Arci. L’ingresso è riservato ai soci. E’ possibile tesserarsi online a questo link: https://portale.arci.it/preadesione/areasismica/ \n 
URL:https://www.areasismica.it/event/anima-sound-in-collaborazione-con-sedicicorto-con-simone-pappalardo/
ATTACH;FMTTYPE=image/jpeg:https://www.areasismica.it/wp-content/uploads/2021/07/animasound-1.jpg
END:VEVENT
END:VCALENDAR