BEGIN:VCALENDAR
VERSION:2.0
PRODID:-//Area Sismica - ECPv6.15.20//NONSGML v1.0//EN
CALSCALE:GREGORIAN
METHOD:PUBLISH
X-WR-CALNAME:Area Sismica
X-ORIGINAL-URL:https://www.areasismica.it
X-WR-CALDESC:Eventi per Area Sismica
REFRESH-INTERVAL;VALUE=DURATION:PT1H
X-Robots-Tag:noindex
X-PUBLISHED-TTL:PT1H
BEGIN:VTIMEZONE
TZID:Europe/Rome
BEGIN:DAYLIGHT
TZOFFSETFROM:+0100
TZOFFSETTO:+0200
TZNAME:CEST
DTSTART:20170326T010000
END:DAYLIGHT
BEGIN:STANDARD
TZOFFSETFROM:+0200
TZOFFSETTO:+0100
TZNAME:CET
DTSTART:20171029T010000
END:STANDARD
BEGIN:DAYLIGHT
TZOFFSETFROM:+0100
TZOFFSETTO:+0200
TZNAME:CEST
DTSTART:20180325T010000
END:DAYLIGHT
BEGIN:STANDARD
TZOFFSETFROM:+0200
TZOFFSETTO:+0100
TZNAME:CET
DTSTART:20181028T010000
END:STANDARD
BEGIN:DAYLIGHT
TZOFFSETFROM:+0100
TZOFFSETTO:+0200
TZNAME:CEST
DTSTART:20190331T010000
END:DAYLIGHT
BEGIN:STANDARD
TZOFFSETFROM:+0200
TZOFFSETTO:+0100
TZNAME:CET
DTSTART:20191027T010000
END:STANDARD
END:VTIMEZONE
BEGIN:VEVENT
DTSTART;TZID=Europe/Rome:20180211T180000
DTEND;TZID=Europe/Rome:20180211T200000
DTSTAMP:20260421T114232
CREATED:20180118T151931Z
LAST-MODIFIED:20180206T135217Z
UID:2682-1518372000-1518379200@www.areasismica.it
SUMMARY:ALESSANDRA NOVAGA: Fassbinder Wunderkammer
DESCRIPTION:Rassegna Musica Extra-Ordinaria \nALESSANDRA NOVAGA: Fassbinder Wunderkammer (Ita)\nChitarra elettrica \nFassbinder Wunderkammer parla di R.W. Fassbinder e del suo cinema. E’ stato un autore estremamente prolifico\, circa quaranta film in 36 anni di vita vissuti con una intensità drammatica\, una attività quasi sovrumana e una disperata ricerca di affermazione e accettazione. Ha affrontato diversi generi\, dal gangster movie\, alla coraggiosa rivisitazione del periodo nazista\, ancora troppo fresco per i tedeschi\, a un cinema più borghese in cui mette in luce quello che lui pensava dei rapporti umani: sopraffazione\, violenza psicologica\, un disperato bisogno di essere amati.\nQuesto progetto di Alessandra Novaga è un viaggio attraverso i tanti volti che Fassbinder ha saputo incarnare ma sempre con un’unica voce. \nAlessandra Novaga è una chitarrista con una solida formazione classica conclusa alla Musikhochschule di Basilea dove ha studiato con Oscar Ghiglia. Dopo molti anni trascorsi esclusivamente in ambito classico\, il suo corso artistico ha effettuato una svolta che l’ha portata a esplorare e a frequentare i territori della sperimentazione\, della composizione e dell’improvvisazione\, ridisegnando il suo rapporto con il suono e la performance.\nMolto interessata al teatro\, opera una ricerca anche in questa direzione\, creando partiture musicali strettamente legate al testo e alla recitazione\, collaborando principalmente con Elena Russo Arman\, del Teatro dell’Elfo e con la compagnia Phoebe Zeitgeist.\nArtista di fama internazionale\, ha pubblicato tre album in solo\, La Chambre Des Jeux Sonores (Setola di Maiale)\, Movimenti Lunari (Blume) e Fassbinder Wunderkammer (Setola di Maiale). \ningresso €8. Area Sismica è un circolo Arci
URL:https://www.areasismica.it/event/alessandra-novaga-fassbinder-wunderkammer/
ATTACH;FMTTYPE=image/jpeg:https://www.areasismica.it/wp-content/uploads/2018/01/Novaga.jpg
END:VEVENT
END:VCALENDAR