BEGIN:VCALENDAR
VERSION:2.0
PRODID:-//Area Sismica - ECPv6.15.20//NONSGML v1.0//EN
CALSCALE:GREGORIAN
METHOD:PUBLISH
X-WR-CALNAME:Area Sismica
X-ORIGINAL-URL:https://www.areasismica.it
X-WR-CALDESC:Eventi per Area Sismica
REFRESH-INTERVAL;VALUE=DURATION:PT1H
X-Robots-Tag:noindex
X-PUBLISHED-TTL:PT1H
BEGIN:VTIMEZONE
TZID:Europe/Rome
BEGIN:DAYLIGHT
TZOFFSETFROM:+0100
TZOFFSETTO:+0200
TZNAME:CEST
DTSTART:20240331T010000
END:DAYLIGHT
BEGIN:STANDARD
TZOFFSETFROM:+0200
TZOFFSETTO:+0100
TZNAME:CET
DTSTART:20241027T010000
END:STANDARD
BEGIN:DAYLIGHT
TZOFFSETFROM:+0100
TZOFFSETTO:+0200
TZNAME:CEST
DTSTART:20250330T010000
END:DAYLIGHT
BEGIN:STANDARD
TZOFFSETFROM:+0200
TZOFFSETTO:+0100
TZNAME:CET
DTSTART:20251026T010000
END:STANDARD
BEGIN:DAYLIGHT
TZOFFSETFROM:+0100
TZOFFSETTO:+0200
TZNAME:CEST
DTSTART:20260329T010000
END:DAYLIGHT
BEGIN:STANDARD
TZOFFSETFROM:+0200
TZOFFSETTO:+0100
TZNAME:CET
DTSTART:20261025T010000
END:STANDARD
END:VTIMEZONE
BEGIN:VEVENT
DTSTART;TZID=Europe/Rome:20250627T210000
DTEND;TZID=Europe/Rome:20250627T220000
DTSTAMP:20260421T142011
CREATED:20250604T120051Z
LAST-MODIFIED:20250604T120204Z
UID:337395-1751058000-1751061600@www.areasismica.it
SUMMARY:RADIAN (AT)
DESCRIPTION:concerto @ Lupo | Viale Romagna 323\, Lido di Savio (RA) \nEVENTO ALL’INTERNO DEL FESTIVAL AUT AUT \nMartin Brandlmayr – batteria\, elettronica\nMartin Siewert – chitarre\, lap steel\, elettronica\nManu Mayr – basso \nDalla fine degli anni ’90\, Radian ridefinisce il confine tra suono elettronico astratto e strumentazione acustica\, portando avanti una ricerca sonora documentata da lunghi tour internazionali\, partecipazioni a festival e sette album pubblicati. \nL’ultimo lavoro del trio viennese\, Distorted Rooms\, edito dall’etichetta americana Thrill Jockey (Chicago)\, spinge ancora oltre questa visione radicale: riformulare forme e suoni convenzionali attraverso uno stile preciso\, stratificato\, in costante tensione tra struttura e astrazione. \nSe nel precedente album On Dark Silent Off (2016) si esploravano i contrasti estremi tra silenzi e deflagrazioni\, Distorted Rooms predilige lo sviluppo lento e le strutture ripetitive. Gli strumenti diventano quasi irriconoscibili\, i suoni si articolano su piani diversi – sub o meta – lasciando all’ascoltatore la libertà di decidere dove puntare la lente: nel fitto intreccio di trame parallele\, rumori che appaiono e scompaiono\, frammenti ritmici cesellati con chirurgica precisione\, e stratificazioni che generano attimi inattesi di bellezza autonoma.\nLa cifra estetica di Radian è una continua\, sottile interruzione della continuità. \nDicono di loro: \n“…una band dalla densità e texture straordinariamente originali”\nBen Ratliff\, The New York Times\n“Radian microfona il microcosmo del dettaglio sonoro\, filtrandolo in uno spruzzo di rumore bianco\, sottile come un foglio e denso come una cotta di maglia.”\nPhilip Sherburne\, XLR8R\n“Il trio è ancora oggi altrettanto anticonvenzionale\, immaginifico\, silenziosamente potente\, attuale e unico.”\nBrainwashed (USA) \n  \nIngresso libero \nprenotazione pranzo / cena 345 6638289 \n>>> in caso di maltempo il concerto si svolgerà nello spazio indoor della nuova sede
URL:https://www.areasismica.it/event/337395/
ATTACH;FMTTYPE=image/jpeg:https://www.areasismica.it/wp-content/uploads/2025/06/radian-web.jpg
END:VEVENT
END:VCALENDAR