BEGIN:VCALENDAR
VERSION:2.0
PRODID:-//Area Sismica - ECPv6.15.20//NONSGML v1.0//EN
CALSCALE:GREGORIAN
METHOD:PUBLISH
X-WR-CALNAME:Area Sismica
X-ORIGINAL-URL:https://www.areasismica.it
X-WR-CALDESC:Eventi per Area Sismica
REFRESH-INTERVAL;VALUE=DURATION:PT1H
X-Robots-Tag:noindex
X-PUBLISHED-TTL:PT1H
BEGIN:VTIMEZONE
TZID:Europe/Rome
BEGIN:DAYLIGHT
TZOFFSETFROM:+0100
TZOFFSETTO:+0200
TZNAME:CEST
DTSTART:20230326T010000
END:DAYLIGHT
BEGIN:STANDARD
TZOFFSETFROM:+0200
TZOFFSETTO:+0100
TZNAME:CET
DTSTART:20231029T010000
END:STANDARD
BEGIN:DAYLIGHT
TZOFFSETFROM:+0100
TZOFFSETTO:+0200
TZNAME:CEST
DTSTART:20240331T010000
END:DAYLIGHT
BEGIN:STANDARD
TZOFFSETFROM:+0200
TZOFFSETTO:+0100
TZNAME:CET
DTSTART:20241027T010000
END:STANDARD
BEGIN:DAYLIGHT
TZOFFSETFROM:+0100
TZOFFSETTO:+0200
TZNAME:CEST
DTSTART:20250330T010000
END:DAYLIGHT
BEGIN:STANDARD
TZOFFSETFROM:+0200
TZOFFSETTO:+0100
TZNAME:CET
DTSTART:20251026T010000
END:STANDARD
END:VTIMEZONE
BEGIN:VEVENT
DTSTART;TZID=Europe/Rome:20240908T120000
DTEND;TZID=Europe/Rome:20240908T130000
DTSTAMP:20260421T133941
CREATED:20240819T143436Z
LAST-MODIFIED:20240906T122817Z
UID:337254-1725796800-1725800400@www.areasismica.it
SUMMARY:EMMELUTH'S AMOEBA (NO - DK)
DESCRIPTION:c/o Lupo 340 (mappa) \nSigne Emmeluth: sax\nKarl Bjorå: chitarra\nOle Mofjell: batteria\nChristian Balvig: tastiere \nAmoeba è un quartetto danese/norvegese rivoluzionario composto da quattro dei musicisti più eccitanti della scena scandinava in questo momento. \nIl gruppo è stato in tournée negli ultimi 4 anni\, dove ha toccato il Copenhagen Jazz Festival\, Nattjazz (Festival jazz di Bergen)\, Summer Bummer Festival (Anversa)\, solo per citarne alcuni. \nCon la musica creativa che si muove attraverso il free jazz o la musica da camera con feroce energia\, è difficile rimanere impassibili… o intatti. \nIl pianista Christian Balvig ha lasciato il segno sia come musicista alla guida del proprio gruppo e suonando con il colossale supergruppo danese Efterklang\, sia componendo musica per grandi orchestre come la Copenhagen Philharmonic Orchestra. \nIl chitarrista Karl Bjorå è una noce pesante sulla scena della musica improvvisata e ha inciso e girato a lungo con i suoi gruppi Megalodon Collective\, Yes Deer e Aperture per anni in tutta Europa\, Stati Uniti e Asia. \nIl batterista Ole Mofjell è una forza della natura\, suona con Thurston Moore in duo\, oltre ad essere in tour con leggende della ECM come Jon Balke o il chitarrista norvegese dei Powerhouse\, Hedvig Mollestad. \nUltimo ma non meno importante\, la leader e compositrice Signe Emmeluth che ha donato una forte impronta sulla scena mondiale durante gli ultimi 5 anni suonando con Kresten Osgood oltre a far parte della Trondheim Jazzorkester e della Supersonic Orchestra di Gard Nilssen. \n“Il quartetto raggiunge nuove vette e abissi più profondi sperimentando\, ricercando e assumendosi dei rischi… Signe Emmeluth si dimostra\, ancora una volta\, una delle voci più originali e fresche della scena nordica. Provocatorio\, strabiliante ed emotivamente coinvolgente. “- Salt Peanuts \n  \nIngresso libero \nprenotazione cena: 345 6638289
URL:https://www.areasismica.it/event/337254/
ATTACH;FMTTYPE=image/jpeg:https://www.areasismica.it/wp-content/uploads/2024/08/AmoebaWeb.jpg
END:VEVENT
END:VCALENDAR